BEGIN:VCALENDAR
VERSION:2.0
PRODID:-//Steel City Magazine - ECPv6.13.1//NONSGML v1.0//EN
CALSCALE:GREGORIAN
METHOD:PUBLISH
X-ORIGINAL-URL:https://steelcitymagazine.ca
X-WR-CALDESC:Events for Steel City Magazine
REFRESH-INTERVAL;VALUE=DURATION:PT1H
X-Robots-Tag:noindex
X-PUBLISHED-TTL:PT1H
BEGIN:VTIMEZONE
TZID:America/Toronto
BEGIN:DAYLIGHT
TZOFFSETFROM:-0500
TZOFFSETTO:-0400
TZNAME:EDT
DTSTART:20250309T070000
END:DAYLIGHT
BEGIN:STANDARD
TZOFFSETFROM:-0400
TZOFFSETTO:-0500
TZNAME:EST
DTSTART:20251102T060000
END:STANDARD
END:VTIMEZONE
BEGIN:VEVENT
DTSTART;TZID=America/Toronto:20250607T110000
DTEND;TZID=America/Toronto:20250607T180000
DTSTAMP:20260422T084816
CREATED:20250526T194736Z
LAST-MODIFIED:20250526T194736Z
UID:10000002-1749294000-1749319200@steelcitymagazine.ca
SUMMARY:Concession StreetFest 2025
DESCRIPTION:Concession StreetFest 2025 is here! \nEnjoy a day of music\, dance\, free kidz zone\, merchant sidewalk sales\, brunch specials\, vendors lining the street\, minstrels\, medieval warriors\, outrageous circus fun and much more! \nThe day will feature two stages with various local performers and presentations. Perfect for kids of all ages! \nFor the car lovers\, Mountain Tire will be hosting a Classic Car Showcase in their Entertainment Centre. \nAdmission is free. \nThe Concession StreetFest is brought to you by the Concession BIA and The City of Hamilton. \nEvent locations include: Concession St. at Upper Wentworth St. and E 25th St. at Poplar Ave. \n 
URL:https://steelcitymagazine.ca/event/concession-streetfest-2025/
LOCATION:Concession St. at Upper Wentworth St.\, Hamilton\, Ontario\, Canada
CATEGORIES:Festival
ATTACH;FMTTYPE=image/webp:https://steelcitymagazine.ca/wp-content/uploads/2025/05/Screenshot-2025-05-26-at-3.33.46 PM.webp
END:VEVENT
END:VCALENDAR