BEGIN:VCALENDAR
VERSION:2.0
PRODID:-//Steel City Magazine - ECPv6.13.1//NONSGML v1.0//EN
CALSCALE:GREGORIAN
METHOD:PUBLISH
X-ORIGINAL-URL:https://steelcitymagazine.ca
X-WR-CALDESC:Events for Steel City Magazine
REFRESH-INTERVAL;VALUE=DURATION:PT1H
X-Robots-Tag:noindex
X-PUBLISHED-TTL:PT1H
BEGIN:VTIMEZONE
TZID:America/Toronto
BEGIN:DAYLIGHT
TZOFFSETFROM:-0500
TZOFFSETTO:-0400
TZNAME:EDT
DTSTART:20250309T070000
END:DAYLIGHT
BEGIN:STANDARD
TZOFFSETFROM:-0400
TZOFFSETTO:-0500
TZNAME:EST
DTSTART:20251102T060000
END:STANDARD
END:VTIMEZONE
BEGIN:VEVENT
DTSTART;TZID=America/Toronto:20250607T080000
DTEND;TZID=America/Toronto:20250607T120000
DTSTAMP:20260422T055946
CREATED:20250526T200229Z
LAST-MODIFIED:20250526T200229Z
UID:10000003-1749283200-1749297600@steelcitymagazine.ca
SUMMARY:Free Tree Giveaway 2025 - Bayfront Park Pickup
DESCRIPTION:The City of Hamilton and the Hamilton Naturalists’ Club have partnered together to host the 2025 Free Tree Giveaway with pickup at Bayfront Park for Hamilton residents. \nPlant a free\, native tree on your property to improve air quality\, fight climate change and increase property value. Trees must be planted on private property\, preferably at the side or back of your home. \nPre-Registration is Required.\nYou will select your pick up location and date\, register for your tree species\, and your tree will be held until you park and pick it up at Bayfront Park any time between 8:00 AM and 12:00 PM on the pick-up day. Food and monetary donations for Hamilton Food Share are appreciated. \nRegister here. \nGiveaway Details\n\n1 tree per property.\nTrees will be approximately 0.5-1 metre tall.\nMust present drivers license or property tax bill upon pick-up.\nPark your vehicle and pick up your tree. Rain or shine.\nHomeowner is responsible to plant\, water and maintain private tree.\nClick before you dig – OntarioOneCall.ca
URL:https://steelcitymagazine.ca/event/free-tree-giveaway-2025-bayfront-park-pickup/
LOCATION:Bayfront Park\, 325 Bay St. North\, Hamilton\, Ontario\, L8L 1M5\, Canada
END:VEVENT
END:VCALENDAR