BEGIN:VCALENDAR
VERSION:2.0
PRODID:-//Steel City Magazine - ECPv6.13.1//NONSGML v1.0//EN
CALSCALE:GREGORIAN
METHOD:PUBLISH
X-WR-CALNAME:Steel City Magazine
X-ORIGINAL-URL:https://steelcitymagazine.ca
X-WR-CALDESC:Events for Steel City Magazine
REFRESH-INTERVAL;VALUE=DURATION:PT1H
X-Robots-Tag:noindex
X-PUBLISHED-TTL:PT1H
BEGIN:VTIMEZONE
TZID:America/Toronto
BEGIN:DAYLIGHT
TZOFFSETFROM:-0500
TZOFFSETTO:-0400
TZNAME:EDT
DTSTART:20280312T070000
END:DAYLIGHT
BEGIN:STANDARD
TZOFFSETFROM:-0400
TZOFFSETTO:-0500
TZNAME:EST
DTSTART:20281105T060000
END:STANDARD
END:VTIMEZONE
BEGIN:VEVENT
DTSTART;TZID=America/Toronto:20280227T110000
DTEND;TZID=America/Toronto:20280227T230000
DTSTAMP:20260423T105311
CREATED:20250526T201827Z
LAST-MODIFIED:20250526T201827Z
UID:10000148-1835262000-1835305200@steelcitymagazine.ca
SUMMARY:$5 Caesars at Kelsey's Original Roadhouse Redhill
DESCRIPTION:Enjoy $5 Caesars all day Sunday at Kelsey’s Original Roadhouse Redhill. You can even Kick It Up to a double for $8! \nAvailable all day\, every Sunday. \n  \n 
URL:https://steelcitymagazine.ca/event/5-caesars-at-kelseys-original-roadhouse-redhill/2028-02-27/
LOCATION:Kelsey’s Original Roadhouse – Redhill\, 821 Paramount Drive\, Hamilton\, ON\, L8J 2L6\, Canada
CATEGORIES:Restaurant Promotion
ATTACH;FMTTYPE=image/webp:https://steelcitymagazine.ca/wp-content/uploads/2025/05/5-Caesars-Kelseys-Original-Roadhouse.webp
END:VEVENT
BEGIN:VEVENT
DTSTART;TZID=America/Toronto:20280305T110000
DTEND;TZID=America/Toronto:20280305T230000
DTSTAMP:20260423T105311
CREATED:20250526T201827Z
LAST-MODIFIED:20250526T201827Z
UID:10000149-1835866800-1835910000@steelcitymagazine.ca
SUMMARY:$5 Caesars at Kelsey's Original Roadhouse Redhill
DESCRIPTION:Enjoy $5 Caesars all day Sunday at Kelsey’s Original Roadhouse Redhill. You can even Kick It Up to a double for $8! \nAvailable all day\, every Sunday. \n  \n 
URL:https://steelcitymagazine.ca/event/5-caesars-at-kelseys-original-roadhouse-redhill/2028-03-05/
LOCATION:Kelsey’s Original Roadhouse – Redhill\, 821 Paramount Drive\, Hamilton\, ON\, L8J 2L6\, Canada
CATEGORIES:Restaurant Promotion
ATTACH;FMTTYPE=image/webp:https://steelcitymagazine.ca/wp-content/uploads/2025/05/5-Caesars-Kelseys-Original-Roadhouse.webp
END:VEVENT
BEGIN:VEVENT
DTSTART;TZID=America/Toronto:20280312T110000
DTEND;TZID=America/Toronto:20280312T230000
DTSTAMP:20260423T105311
CREATED:20250526T201827Z
LAST-MODIFIED:20250526T201827Z
UID:10000150-1836471600-1836514800@steelcitymagazine.ca
SUMMARY:$5 Caesars at Kelsey's Original Roadhouse Redhill
DESCRIPTION:Enjoy $5 Caesars all day Sunday at Kelsey’s Original Roadhouse Redhill. You can even Kick It Up to a double for $8! \nAvailable all day\, every Sunday. \n  \n 
URL:https://steelcitymagazine.ca/event/5-caesars-at-kelseys-original-roadhouse-redhill/2028-03-12/
LOCATION:Kelsey’s Original Roadhouse – Redhill\, 821 Paramount Drive\, Hamilton\, ON\, L8J 2L6\, Canada
CATEGORIES:Restaurant Promotion
ATTACH;FMTTYPE=image/webp:https://steelcitymagazine.ca/wp-content/uploads/2025/05/5-Caesars-Kelseys-Original-Roadhouse.webp
END:VEVENT
BEGIN:VEVENT
DTSTART;TZID=America/Toronto:20280319T110000
DTEND;TZID=America/Toronto:20280319T230000
DTSTAMP:20260423T105311
CREATED:20250526T201827Z
LAST-MODIFIED:20250526T201827Z
UID:10000151-1837076400-1837119600@steelcitymagazine.ca
SUMMARY:$5 Caesars at Kelsey's Original Roadhouse Redhill
DESCRIPTION:Enjoy $5 Caesars all day Sunday at Kelsey’s Original Roadhouse Redhill. You can even Kick It Up to a double for $8! \nAvailable all day\, every Sunday. \n  \n 
URL:https://steelcitymagazine.ca/event/5-caesars-at-kelseys-original-roadhouse-redhill/2028-03-19/
LOCATION:Kelsey’s Original Roadhouse – Redhill\, 821 Paramount Drive\, Hamilton\, ON\, L8J 2L6\, Canada
CATEGORIES:Restaurant Promotion
ATTACH;FMTTYPE=image/webp:https://steelcitymagazine.ca/wp-content/uploads/2025/05/5-Caesars-Kelseys-Original-Roadhouse.webp
END:VEVENT
BEGIN:VEVENT
DTSTART;TZID=America/Toronto:20280326T110000
DTEND;TZID=America/Toronto:20280326T230000
DTSTAMP:20260423T105311
CREATED:20250526T201827Z
LAST-MODIFIED:20250526T201827Z
UID:10000152-1837681200-1837724400@steelcitymagazine.ca
SUMMARY:$5 Caesars at Kelsey's Original Roadhouse Redhill
DESCRIPTION:Enjoy $5 Caesars all day Sunday at Kelsey’s Original Roadhouse Redhill. You can even Kick It Up to a double for $8! \nAvailable all day\, every Sunday. \n  \n 
URL:https://steelcitymagazine.ca/event/5-caesars-at-kelseys-original-roadhouse-redhill/2028-03-26/
LOCATION:Kelsey’s Original Roadhouse – Redhill\, 821 Paramount Drive\, Hamilton\, ON\, L8J 2L6\, Canada
CATEGORIES:Restaurant Promotion
ATTACH;FMTTYPE=image/webp:https://steelcitymagazine.ca/wp-content/uploads/2025/05/5-Caesars-Kelseys-Original-Roadhouse.webp
END:VEVENT
BEGIN:VEVENT
DTSTART;TZID=America/Toronto:20280402T110000
DTEND;TZID=America/Toronto:20280402T230000
DTSTAMP:20260423T105311
CREATED:20250526T201827Z
LAST-MODIFIED:20250526T201827Z
UID:10000153-1838286000-1838329200@steelcitymagazine.ca
SUMMARY:$5 Caesars at Kelsey's Original Roadhouse Redhill
DESCRIPTION:Enjoy $5 Caesars all day Sunday at Kelsey’s Original Roadhouse Redhill. You can even Kick It Up to a double for $8! \nAvailable all day\, every Sunday. \n  \n 
URL:https://steelcitymagazine.ca/event/5-caesars-at-kelseys-original-roadhouse-redhill/2028-04-02/
LOCATION:Kelsey’s Original Roadhouse – Redhill\, 821 Paramount Drive\, Hamilton\, ON\, L8J 2L6\, Canada
CATEGORIES:Restaurant Promotion
ATTACH;FMTTYPE=image/webp:https://steelcitymagazine.ca/wp-content/uploads/2025/05/5-Caesars-Kelseys-Original-Roadhouse.webp
END:VEVENT
BEGIN:VEVENT
DTSTART;TZID=America/Toronto:20280409T110000
DTEND;TZID=America/Toronto:20280409T230000
DTSTAMP:20260423T105311
CREATED:20250526T201827Z
LAST-MODIFIED:20250526T201827Z
UID:10000154-1838890800-1838934000@steelcitymagazine.ca
SUMMARY:$5 Caesars at Kelsey's Original Roadhouse Redhill
DESCRIPTION:Enjoy $5 Caesars all day Sunday at Kelsey’s Original Roadhouse Redhill. You can even Kick It Up to a double for $8! \nAvailable all day\, every Sunday. \n  \n 
URL:https://steelcitymagazine.ca/event/5-caesars-at-kelseys-original-roadhouse-redhill/2028-04-09/
LOCATION:Kelsey’s Original Roadhouse – Redhill\, 821 Paramount Drive\, Hamilton\, ON\, L8J 2L6\, Canada
CATEGORIES:Restaurant Promotion
ATTACH;FMTTYPE=image/webp:https://steelcitymagazine.ca/wp-content/uploads/2025/05/5-Caesars-Kelseys-Original-Roadhouse.webp
END:VEVENT
BEGIN:VEVENT
DTSTART;TZID=America/Toronto:20280416T110000
DTEND;TZID=America/Toronto:20280416T230000
DTSTAMP:20260423T105311
CREATED:20250526T201827Z
LAST-MODIFIED:20250526T201827Z
UID:10000155-1839495600-1839538800@steelcitymagazine.ca
SUMMARY:$5 Caesars at Kelsey's Original Roadhouse Redhill
DESCRIPTION:Enjoy $5 Caesars all day Sunday at Kelsey’s Original Roadhouse Redhill. You can even Kick It Up to a double for $8! \nAvailable all day\, every Sunday. \n  \n 
URL:https://steelcitymagazine.ca/event/5-caesars-at-kelseys-original-roadhouse-redhill/2028-04-16/
LOCATION:Kelsey’s Original Roadhouse – Redhill\, 821 Paramount Drive\, Hamilton\, ON\, L8J 2L6\, Canada
CATEGORIES:Restaurant Promotion
ATTACH;FMTTYPE=image/webp:https://steelcitymagazine.ca/wp-content/uploads/2025/05/5-Caesars-Kelseys-Original-Roadhouse.webp
END:VEVENT
BEGIN:VEVENT
DTSTART;TZID=America/Toronto:20280423T110000
DTEND;TZID=America/Toronto:20280423T230000
DTSTAMP:20260423T105311
CREATED:20250526T201827Z
LAST-MODIFIED:20250526T201827Z
UID:10000156-1840100400-1840143600@steelcitymagazine.ca
SUMMARY:$5 Caesars at Kelsey's Original Roadhouse Redhill
DESCRIPTION:Enjoy $5 Caesars all day Sunday at Kelsey’s Original Roadhouse Redhill. You can even Kick It Up to a double for $8! \nAvailable all day\, every Sunday. \n  \n 
URL:https://steelcitymagazine.ca/event/5-caesars-at-kelseys-original-roadhouse-redhill/2028-04-23/
LOCATION:Kelsey’s Original Roadhouse – Redhill\, 821 Paramount Drive\, Hamilton\, ON\, L8J 2L6\, Canada
CATEGORIES:Restaurant Promotion
ATTACH;FMTTYPE=image/webp:https://steelcitymagazine.ca/wp-content/uploads/2025/05/5-Caesars-Kelseys-Original-Roadhouse.webp
END:VEVENT
BEGIN:VEVENT
DTSTART;TZID=America/Toronto:20280430T110000
DTEND;TZID=America/Toronto:20280430T230000
DTSTAMP:20260423T105311
CREATED:20250526T201827Z
LAST-MODIFIED:20250526T201827Z
UID:10000157-1840705200-1840748400@steelcitymagazine.ca
SUMMARY:$5 Caesars at Kelsey's Original Roadhouse Redhill
DESCRIPTION:Enjoy $5 Caesars all day Sunday at Kelsey’s Original Roadhouse Redhill. You can even Kick It Up to a double for $8! \nAvailable all day\, every Sunday. \n  \n 
URL:https://steelcitymagazine.ca/event/5-caesars-at-kelseys-original-roadhouse-redhill/2028-04-30/
LOCATION:Kelsey’s Original Roadhouse – Redhill\, 821 Paramount Drive\, Hamilton\, ON\, L8J 2L6\, Canada
CATEGORIES:Restaurant Promotion
ATTACH;FMTTYPE=image/webp:https://steelcitymagazine.ca/wp-content/uploads/2025/05/5-Caesars-Kelseys-Original-Roadhouse.webp
END:VEVENT
BEGIN:VEVENT
DTSTART;TZID=America/Toronto:20280507T110000
DTEND;TZID=America/Toronto:20280507T230000
DTSTAMP:20260423T105311
CREATED:20250526T201827Z
LAST-MODIFIED:20250526T201827Z
UID:10000158-1841310000-1841353200@steelcitymagazine.ca
SUMMARY:$5 Caesars at Kelsey's Original Roadhouse Redhill
DESCRIPTION:Enjoy $5 Caesars all day Sunday at Kelsey’s Original Roadhouse Redhill. You can even Kick It Up to a double for $8! \nAvailable all day\, every Sunday. \n  \n 
URL:https://steelcitymagazine.ca/event/5-caesars-at-kelseys-original-roadhouse-redhill/2028-05-07/
LOCATION:Kelsey’s Original Roadhouse – Redhill\, 821 Paramount Drive\, Hamilton\, ON\, L8J 2L6\, Canada
CATEGORIES:Restaurant Promotion
ATTACH;FMTTYPE=image/webp:https://steelcitymagazine.ca/wp-content/uploads/2025/05/5-Caesars-Kelseys-Original-Roadhouse.webp
END:VEVENT
BEGIN:VEVENT
DTSTART;TZID=America/Toronto:20280514T110000
DTEND;TZID=America/Toronto:20280514T230000
DTSTAMP:20260423T105311
CREATED:20250526T201827Z
LAST-MODIFIED:20250526T201827Z
UID:10000159-1841914800-1841958000@steelcitymagazine.ca
SUMMARY:$5 Caesars at Kelsey's Original Roadhouse Redhill
DESCRIPTION:Enjoy $5 Caesars all day Sunday at Kelsey’s Original Roadhouse Redhill. You can even Kick It Up to a double for $8! \nAvailable all day\, every Sunday. \n  \n 
URL:https://steelcitymagazine.ca/event/5-caesars-at-kelseys-original-roadhouse-redhill/2028-05-14/
LOCATION:Kelsey’s Original Roadhouse – Redhill\, 821 Paramount Drive\, Hamilton\, ON\, L8J 2L6\, Canada
CATEGORIES:Restaurant Promotion
ATTACH;FMTTYPE=image/webp:https://steelcitymagazine.ca/wp-content/uploads/2025/05/5-Caesars-Kelseys-Original-Roadhouse.webp
END:VEVENT
BEGIN:VEVENT
DTSTART;TZID=America/Toronto:20280521T110000
DTEND;TZID=America/Toronto:20280521T230000
DTSTAMP:20260423T105311
CREATED:20250526T201827Z
LAST-MODIFIED:20250526T201827Z
UID:10000160-1842519600-1842562800@steelcitymagazine.ca
SUMMARY:$5 Caesars at Kelsey's Original Roadhouse Redhill
DESCRIPTION:Enjoy $5 Caesars all day Sunday at Kelsey’s Original Roadhouse Redhill. You can even Kick It Up to a double for $8! \nAvailable all day\, every Sunday. \n  \n 
URL:https://steelcitymagazine.ca/event/5-caesars-at-kelseys-original-roadhouse-redhill/2028-05-21/
LOCATION:Kelsey’s Original Roadhouse – Redhill\, 821 Paramount Drive\, Hamilton\, ON\, L8J 2L6\, Canada
CATEGORIES:Restaurant Promotion
ATTACH;FMTTYPE=image/webp:https://steelcitymagazine.ca/wp-content/uploads/2025/05/5-Caesars-Kelseys-Original-Roadhouse.webp
END:VEVENT
BEGIN:VEVENT
DTSTART;TZID=America/Toronto:20280528T110000
DTEND;TZID=America/Toronto:20280528T230000
DTSTAMP:20260423T105311
CREATED:20250526T201827Z
LAST-MODIFIED:20250526T201827Z
UID:10000161-1843124400-1843167600@steelcitymagazine.ca
SUMMARY:$5 Caesars at Kelsey's Original Roadhouse Redhill
DESCRIPTION:Enjoy $5 Caesars all day Sunday at Kelsey’s Original Roadhouse Redhill. You can even Kick It Up to a double for $8! \nAvailable all day\, every Sunday. \n  \n 
URL:https://steelcitymagazine.ca/event/5-caesars-at-kelseys-original-roadhouse-redhill/2028-05-28/
LOCATION:Kelsey’s Original Roadhouse – Redhill\, 821 Paramount Drive\, Hamilton\, ON\, L8J 2L6\, Canada
CATEGORIES:Restaurant Promotion
ATTACH;FMTTYPE=image/webp:https://steelcitymagazine.ca/wp-content/uploads/2025/05/5-Caesars-Kelseys-Original-Roadhouse.webp
END:VEVENT
BEGIN:VEVENT
DTSTART;TZID=America/Toronto:20280604T110000
DTEND;TZID=America/Toronto:20280604T230000
DTSTAMP:20260423T105311
CREATED:20250526T201827Z
LAST-MODIFIED:20250526T201827Z
UID:10000162-1843729200-1843772400@steelcitymagazine.ca
SUMMARY:$5 Caesars at Kelsey's Original Roadhouse Redhill
DESCRIPTION:Enjoy $5 Caesars all day Sunday at Kelsey’s Original Roadhouse Redhill. You can even Kick It Up to a double for $8! \nAvailable all day\, every Sunday. \n  \n 
URL:https://steelcitymagazine.ca/event/5-caesars-at-kelseys-original-roadhouse-redhill/2028-06-04/
LOCATION:Kelsey’s Original Roadhouse – Redhill\, 821 Paramount Drive\, Hamilton\, ON\, L8J 2L6\, Canada
CATEGORIES:Restaurant Promotion
ATTACH;FMTTYPE=image/webp:https://steelcitymagazine.ca/wp-content/uploads/2025/05/5-Caesars-Kelseys-Original-Roadhouse.webp
END:VEVENT
BEGIN:VEVENT
DTSTART;TZID=America/Toronto:20280611T110000
DTEND;TZID=America/Toronto:20280611T230000
DTSTAMP:20260423T105311
CREATED:20250526T201827Z
LAST-MODIFIED:20250526T201827Z
UID:10000163-1844334000-1844377200@steelcitymagazine.ca
SUMMARY:$5 Caesars at Kelsey's Original Roadhouse Redhill
DESCRIPTION:Enjoy $5 Caesars all day Sunday at Kelsey’s Original Roadhouse Redhill. You can even Kick It Up to a double for $8! \nAvailable all day\, every Sunday. \n  \n 
URL:https://steelcitymagazine.ca/event/5-caesars-at-kelseys-original-roadhouse-redhill/2028-06-11/
LOCATION:Kelsey’s Original Roadhouse – Redhill\, 821 Paramount Drive\, Hamilton\, ON\, L8J 2L6\, Canada
CATEGORIES:Restaurant Promotion
ATTACH;FMTTYPE=image/webp:https://steelcitymagazine.ca/wp-content/uploads/2025/05/5-Caesars-Kelseys-Original-Roadhouse.webp
END:VEVENT
BEGIN:VEVENT
DTSTART;TZID=America/Toronto:20280618T110000
DTEND;TZID=America/Toronto:20280618T230000
DTSTAMP:20260423T105311
CREATED:20250526T201827Z
LAST-MODIFIED:20250526T201827Z
UID:10000164-1844938800-1844982000@steelcitymagazine.ca
SUMMARY:$5 Caesars at Kelsey's Original Roadhouse Redhill
DESCRIPTION:Enjoy $5 Caesars all day Sunday at Kelsey’s Original Roadhouse Redhill. You can even Kick It Up to a double for $8! \nAvailable all day\, every Sunday. \n  \n 
URL:https://steelcitymagazine.ca/event/5-caesars-at-kelseys-original-roadhouse-redhill/2028-06-18/
LOCATION:Kelsey’s Original Roadhouse – Redhill\, 821 Paramount Drive\, Hamilton\, ON\, L8J 2L6\, Canada
CATEGORIES:Restaurant Promotion
ATTACH;FMTTYPE=image/webp:https://steelcitymagazine.ca/wp-content/uploads/2025/05/5-Caesars-Kelseys-Original-Roadhouse.webp
END:VEVENT
BEGIN:VEVENT
DTSTART;TZID=America/Toronto:20280625T110000
DTEND;TZID=America/Toronto:20280625T230000
DTSTAMP:20260423T105311
CREATED:20250526T201827Z
LAST-MODIFIED:20250526T201827Z
UID:10000165-1845543600-1845586800@steelcitymagazine.ca
SUMMARY:$5 Caesars at Kelsey's Original Roadhouse Redhill
DESCRIPTION:Enjoy $5 Caesars all day Sunday at Kelsey’s Original Roadhouse Redhill. You can even Kick It Up to a double for $8! \nAvailable all day\, every Sunday. \n  \n 
URL:https://steelcitymagazine.ca/event/5-caesars-at-kelseys-original-roadhouse-redhill/2028-06-25/
LOCATION:Kelsey’s Original Roadhouse – Redhill\, 821 Paramount Drive\, Hamilton\, ON\, L8J 2L6\, Canada
CATEGORIES:Restaurant Promotion
ATTACH;FMTTYPE=image/webp:https://steelcitymagazine.ca/wp-content/uploads/2025/05/5-Caesars-Kelseys-Original-Roadhouse.webp
END:VEVENT
BEGIN:VEVENT
DTSTART;TZID=America/Toronto:20280702T110000
DTEND;TZID=America/Toronto:20280702T230000
DTSTAMP:20260423T105311
CREATED:20250526T201827Z
LAST-MODIFIED:20250526T201827Z
UID:10000166-1846148400-1846191600@steelcitymagazine.ca
SUMMARY:$5 Caesars at Kelsey's Original Roadhouse Redhill
DESCRIPTION:Enjoy $5 Caesars all day Sunday at Kelsey’s Original Roadhouse Redhill. You can even Kick It Up to a double for $8! \nAvailable all day\, every Sunday. \n  \n 
URL:https://steelcitymagazine.ca/event/5-caesars-at-kelseys-original-roadhouse-redhill/2028-07-02/
LOCATION:Kelsey’s Original Roadhouse – Redhill\, 821 Paramount Drive\, Hamilton\, ON\, L8J 2L6\, Canada
CATEGORIES:Restaurant Promotion
ATTACH;FMTTYPE=image/webp:https://steelcitymagazine.ca/wp-content/uploads/2025/05/5-Caesars-Kelseys-Original-Roadhouse.webp
END:VEVENT
BEGIN:VEVENT
DTSTART;TZID=America/Toronto:20280709T110000
DTEND;TZID=America/Toronto:20280709T230000
DTSTAMP:20260423T105311
CREATED:20250526T201827Z
LAST-MODIFIED:20250526T201827Z
UID:10000167-1846753200-1846796400@steelcitymagazine.ca
SUMMARY:$5 Caesars at Kelsey's Original Roadhouse Redhill
DESCRIPTION:Enjoy $5 Caesars all day Sunday at Kelsey’s Original Roadhouse Redhill. You can even Kick It Up to a double for $8! \nAvailable all day\, every Sunday. \n  \n 
URL:https://steelcitymagazine.ca/event/5-caesars-at-kelseys-original-roadhouse-redhill/2028-07-09/
LOCATION:Kelsey’s Original Roadhouse – Redhill\, 821 Paramount Drive\, Hamilton\, ON\, L8J 2L6\, Canada
CATEGORIES:Restaurant Promotion
ATTACH;FMTTYPE=image/webp:https://steelcitymagazine.ca/wp-content/uploads/2025/05/5-Caesars-Kelseys-Original-Roadhouse.webp
END:VEVENT
BEGIN:VEVENT
DTSTART;TZID=America/Toronto:20280716T110000
DTEND;TZID=America/Toronto:20280716T230000
DTSTAMP:20260423T105311
CREATED:20250526T201827Z
LAST-MODIFIED:20250526T201827Z
UID:10000168-1847358000-1847401200@steelcitymagazine.ca
SUMMARY:$5 Caesars at Kelsey's Original Roadhouse Redhill
DESCRIPTION:Enjoy $5 Caesars all day Sunday at Kelsey’s Original Roadhouse Redhill. You can even Kick It Up to a double for $8! \nAvailable all day\, every Sunday. \n  \n 
URL:https://steelcitymagazine.ca/event/5-caesars-at-kelseys-original-roadhouse-redhill/2028-07-16/
LOCATION:Kelsey’s Original Roadhouse – Redhill\, 821 Paramount Drive\, Hamilton\, ON\, L8J 2L6\, Canada
CATEGORIES:Restaurant Promotion
ATTACH;FMTTYPE=image/webp:https://steelcitymagazine.ca/wp-content/uploads/2025/05/5-Caesars-Kelseys-Original-Roadhouse.webp
END:VEVENT
BEGIN:VEVENT
DTSTART;TZID=America/Toronto:20280723T110000
DTEND;TZID=America/Toronto:20280723T230000
DTSTAMP:20260423T105311
CREATED:20250526T201827Z
LAST-MODIFIED:20250526T201827Z
UID:10000169-1847962800-1848006000@steelcitymagazine.ca
SUMMARY:$5 Caesars at Kelsey's Original Roadhouse Redhill
DESCRIPTION:Enjoy $5 Caesars all day Sunday at Kelsey’s Original Roadhouse Redhill. You can even Kick It Up to a double for $8! \nAvailable all day\, every Sunday. \n  \n 
URL:https://steelcitymagazine.ca/event/5-caesars-at-kelseys-original-roadhouse-redhill/2028-07-23/
LOCATION:Kelsey’s Original Roadhouse – Redhill\, 821 Paramount Drive\, Hamilton\, ON\, L8J 2L6\, Canada
CATEGORIES:Restaurant Promotion
ATTACH;FMTTYPE=image/webp:https://steelcitymagazine.ca/wp-content/uploads/2025/05/5-Caesars-Kelseys-Original-Roadhouse.webp
END:VEVENT
BEGIN:VEVENT
DTSTART;TZID=America/Toronto:20280730T110000
DTEND;TZID=America/Toronto:20280730T230000
DTSTAMP:20260423T105311
CREATED:20250526T201827Z
LAST-MODIFIED:20250526T201827Z
UID:10000170-1848567600-1848610800@steelcitymagazine.ca
SUMMARY:$5 Caesars at Kelsey's Original Roadhouse Redhill
DESCRIPTION:Enjoy $5 Caesars all day Sunday at Kelsey’s Original Roadhouse Redhill. You can even Kick It Up to a double for $8! \nAvailable all day\, every Sunday. \n  \n 
URL:https://steelcitymagazine.ca/event/5-caesars-at-kelseys-original-roadhouse-redhill/2028-07-30/
LOCATION:Kelsey’s Original Roadhouse – Redhill\, 821 Paramount Drive\, Hamilton\, ON\, L8J 2L6\, Canada
CATEGORIES:Restaurant Promotion
ATTACH;FMTTYPE=image/webp:https://steelcitymagazine.ca/wp-content/uploads/2025/05/5-Caesars-Kelseys-Original-Roadhouse.webp
END:VEVENT
BEGIN:VEVENT
DTSTART;TZID=America/Toronto:20280806T110000
DTEND;TZID=America/Toronto:20280806T230000
DTSTAMP:20260423T105311
CREATED:20250526T201827Z
LAST-MODIFIED:20250526T201827Z
UID:10000171-1849172400-1849215600@steelcitymagazine.ca
SUMMARY:$5 Caesars at Kelsey's Original Roadhouse Redhill
DESCRIPTION:Enjoy $5 Caesars all day Sunday at Kelsey’s Original Roadhouse Redhill. You can even Kick It Up to a double for $8! \nAvailable all day\, every Sunday. \n  \n 
URL:https://steelcitymagazine.ca/event/5-caesars-at-kelseys-original-roadhouse-redhill/2028-08-06/
LOCATION:Kelsey’s Original Roadhouse – Redhill\, 821 Paramount Drive\, Hamilton\, ON\, L8J 2L6\, Canada
CATEGORIES:Restaurant Promotion
ATTACH;FMTTYPE=image/webp:https://steelcitymagazine.ca/wp-content/uploads/2025/05/5-Caesars-Kelseys-Original-Roadhouse.webp
END:VEVENT
BEGIN:VEVENT
DTSTART;TZID=America/Toronto:20280813T110000
DTEND;TZID=America/Toronto:20280813T230000
DTSTAMP:20260423T105311
CREATED:20250526T201827Z
LAST-MODIFIED:20250526T201827Z
UID:10000172-1849777200-1849820400@steelcitymagazine.ca
SUMMARY:$5 Caesars at Kelsey's Original Roadhouse Redhill
DESCRIPTION:Enjoy $5 Caesars all day Sunday at Kelsey’s Original Roadhouse Redhill. You can even Kick It Up to a double for $8! \nAvailable all day\, every Sunday. \n  \n 
URL:https://steelcitymagazine.ca/event/5-caesars-at-kelseys-original-roadhouse-redhill/2028-08-13/
LOCATION:Kelsey’s Original Roadhouse – Redhill\, 821 Paramount Drive\, Hamilton\, ON\, L8J 2L6\, Canada
CATEGORIES:Restaurant Promotion
ATTACH;FMTTYPE=image/webp:https://steelcitymagazine.ca/wp-content/uploads/2025/05/5-Caesars-Kelseys-Original-Roadhouse.webp
END:VEVENT
BEGIN:VEVENT
DTSTART;TZID=America/Toronto:20280820T110000
DTEND;TZID=America/Toronto:20280820T230000
DTSTAMP:20260423T105311
CREATED:20250526T201827Z
LAST-MODIFIED:20250526T201827Z
UID:10000173-1850382000-1850425200@steelcitymagazine.ca
SUMMARY:$5 Caesars at Kelsey's Original Roadhouse Redhill
DESCRIPTION:Enjoy $5 Caesars all day Sunday at Kelsey’s Original Roadhouse Redhill. You can even Kick It Up to a double for $8! \nAvailable all day\, every Sunday. \n  \n 
URL:https://steelcitymagazine.ca/event/5-caesars-at-kelseys-original-roadhouse-redhill/2028-08-20/
LOCATION:Kelsey’s Original Roadhouse – Redhill\, 821 Paramount Drive\, Hamilton\, ON\, L8J 2L6\, Canada
CATEGORIES:Restaurant Promotion
ATTACH;FMTTYPE=image/webp:https://steelcitymagazine.ca/wp-content/uploads/2025/05/5-Caesars-Kelseys-Original-Roadhouse.webp
END:VEVENT
BEGIN:VEVENT
DTSTART;TZID=America/Toronto:20280827T110000
DTEND;TZID=America/Toronto:20280827T230000
DTSTAMP:20260423T105311
CREATED:20250526T201827Z
LAST-MODIFIED:20250526T201827Z
UID:10000174-1850986800-1851030000@steelcitymagazine.ca
SUMMARY:$5 Caesars at Kelsey's Original Roadhouse Redhill
DESCRIPTION:Enjoy $5 Caesars all day Sunday at Kelsey’s Original Roadhouse Redhill. You can even Kick It Up to a double for $8! \nAvailable all day\, every Sunday. \n  \n 
URL:https://steelcitymagazine.ca/event/5-caesars-at-kelseys-original-roadhouse-redhill/2028-08-27/
LOCATION:Kelsey’s Original Roadhouse – Redhill\, 821 Paramount Drive\, Hamilton\, ON\, L8J 2L6\, Canada
CATEGORIES:Restaurant Promotion
ATTACH;FMTTYPE=image/webp:https://steelcitymagazine.ca/wp-content/uploads/2025/05/5-Caesars-Kelseys-Original-Roadhouse.webp
END:VEVENT
BEGIN:VEVENT
DTSTART;TZID=America/Toronto:20280903T110000
DTEND;TZID=America/Toronto:20280903T230000
DTSTAMP:20260423T105311
CREATED:20250526T201827Z
LAST-MODIFIED:20250526T201827Z
UID:10000175-1851591600-1851634800@steelcitymagazine.ca
SUMMARY:$5 Caesars at Kelsey's Original Roadhouse Redhill
DESCRIPTION:Enjoy $5 Caesars all day Sunday at Kelsey’s Original Roadhouse Redhill. You can even Kick It Up to a double for $8! \nAvailable all day\, every Sunday. \n  \n 
URL:https://steelcitymagazine.ca/event/5-caesars-at-kelseys-original-roadhouse-redhill/2028-09-03/
LOCATION:Kelsey’s Original Roadhouse – Redhill\, 821 Paramount Drive\, Hamilton\, ON\, L8J 2L6\, Canada
CATEGORIES:Restaurant Promotion
ATTACH;FMTTYPE=image/webp:https://steelcitymagazine.ca/wp-content/uploads/2025/05/5-Caesars-Kelseys-Original-Roadhouse.webp
END:VEVENT
BEGIN:VEVENT
DTSTART;TZID=America/Toronto:20280910T110000
DTEND;TZID=America/Toronto:20280910T230000
DTSTAMP:20260423T105311
CREATED:20250526T201827Z
LAST-MODIFIED:20250526T201827Z
UID:10000176-1852196400-1852239600@steelcitymagazine.ca
SUMMARY:$5 Caesars at Kelsey's Original Roadhouse Redhill
DESCRIPTION:Enjoy $5 Caesars all day Sunday at Kelsey’s Original Roadhouse Redhill. You can even Kick It Up to a double for $8! \nAvailable all day\, every Sunday. \n  \n 
URL:https://steelcitymagazine.ca/event/5-caesars-at-kelseys-original-roadhouse-redhill/2028-09-10/
LOCATION:Kelsey’s Original Roadhouse – Redhill\, 821 Paramount Drive\, Hamilton\, ON\, L8J 2L6\, Canada
CATEGORIES:Restaurant Promotion
ATTACH;FMTTYPE=image/webp:https://steelcitymagazine.ca/wp-content/uploads/2025/05/5-Caesars-Kelseys-Original-Roadhouse.webp
END:VEVENT
BEGIN:VEVENT
DTSTART;TZID=America/Toronto:20280917T110000
DTEND;TZID=America/Toronto:20280917T230000
DTSTAMP:20260423T105311
CREATED:20250526T201827Z
LAST-MODIFIED:20250526T201827Z
UID:10000177-1852801200-1852844400@steelcitymagazine.ca
SUMMARY:$5 Caesars at Kelsey's Original Roadhouse Redhill
DESCRIPTION:Enjoy $5 Caesars all day Sunday at Kelsey’s Original Roadhouse Redhill. You can even Kick It Up to a double for $8! \nAvailable all day\, every Sunday. \n  \n 
URL:https://steelcitymagazine.ca/event/5-caesars-at-kelseys-original-roadhouse-redhill/2028-09-17/
LOCATION:Kelsey’s Original Roadhouse – Redhill\, 821 Paramount Drive\, Hamilton\, ON\, L8J 2L6\, Canada
CATEGORIES:Restaurant Promotion
ATTACH;FMTTYPE=image/webp:https://steelcitymagazine.ca/wp-content/uploads/2025/05/5-Caesars-Kelseys-Original-Roadhouse.webp
END:VEVENT
END:VCALENDAR