BEGIN:VCALENDAR
VERSION:2.0
PRODID:-//Steel City Magazine - ECPv6.13.1//NONSGML v1.0//EN
CALSCALE:GREGORIAN
METHOD:PUBLISH
X-WR-CALNAME:Steel City Magazine
X-ORIGINAL-URL:https://steelcitymagazine.ca
X-WR-CALDESC:Events for Steel City Magazine
REFRESH-INTERVAL;VALUE=DURATION:PT1H
X-Robots-Tag:noindex
X-PUBLISHED-TTL:PT1H
BEGIN:VTIMEZONE
TZID:America/Toronto
BEGIN:DAYLIGHT
TZOFFSETFROM:-0500
TZOFFSETTO:-0400
TZNAME:EDT
DTSTART:20290311T070000
END:DAYLIGHT
BEGIN:STANDARD
TZOFFSETFROM:-0400
TZOFFSETTO:-0500
TZNAME:EST
DTSTART:20291104T060000
END:STANDARD
BEGIN:DAYLIGHT
TZOFFSETFROM:-0500
TZOFFSETTO:-0400
TZNAME:EDT
DTSTART:20300310T070000
END:DAYLIGHT
BEGIN:STANDARD
TZOFFSETFROM:-0400
TZOFFSETTO:-0500
TZNAME:EST
DTSTART:20301103T060000
END:STANDARD
END:VTIMEZONE
BEGIN:VEVENT
DTSTART;TZID=America/Toronto:20291007T110000
DTEND;TZID=America/Toronto:20291007T230000
DTSTAMP:20260423T203203
CREATED:20250526T201827Z
LAST-MODIFIED:20250526T201827Z
UID:10000232-1886065200-1886108400@steelcitymagazine.ca
SUMMARY:$5 Caesars at Kelsey's Original Roadhouse Redhill
DESCRIPTION:Enjoy $5 Caesars all day Sunday at Kelsey’s Original Roadhouse Redhill. You can even Kick It Up to a double for $8! \nAvailable all day\, every Sunday. \n  \n 
URL:https://steelcitymagazine.ca/event/5-caesars-at-kelseys-original-roadhouse-redhill/2029-10-07/
LOCATION:Kelsey’s Original Roadhouse – Redhill\, 821 Paramount Drive\, Hamilton\, ON\, L8J 2L6\, Canada
CATEGORIES:Restaurant Promotion
ATTACH;FMTTYPE=image/webp:https://steelcitymagazine.ca/wp-content/uploads/2025/05/5-Caesars-Kelseys-Original-Roadhouse.webp
END:VEVENT
BEGIN:VEVENT
DTSTART;TZID=America/Toronto:20291014T110000
DTEND;TZID=America/Toronto:20291014T230000
DTSTAMP:20260423T203203
CREATED:20250526T201827Z
LAST-MODIFIED:20250526T201827Z
UID:10000233-1886670000-1886713200@steelcitymagazine.ca
SUMMARY:$5 Caesars at Kelsey's Original Roadhouse Redhill
DESCRIPTION:Enjoy $5 Caesars all day Sunday at Kelsey’s Original Roadhouse Redhill. You can even Kick It Up to a double for $8! \nAvailable all day\, every Sunday. \n  \n 
URL:https://steelcitymagazine.ca/event/5-caesars-at-kelseys-original-roadhouse-redhill/2029-10-14/
LOCATION:Kelsey’s Original Roadhouse – Redhill\, 821 Paramount Drive\, Hamilton\, ON\, L8J 2L6\, Canada
CATEGORIES:Restaurant Promotion
ATTACH;FMTTYPE=image/webp:https://steelcitymagazine.ca/wp-content/uploads/2025/05/5-Caesars-Kelseys-Original-Roadhouse.webp
END:VEVENT
BEGIN:VEVENT
DTSTART;TZID=America/Toronto:20291021T110000
DTEND;TZID=America/Toronto:20291021T230000
DTSTAMP:20260423T203203
CREATED:20250526T201827Z
LAST-MODIFIED:20250526T201827Z
UID:10000234-1887274800-1887318000@steelcitymagazine.ca
SUMMARY:$5 Caesars at Kelsey's Original Roadhouse Redhill
DESCRIPTION:Enjoy $5 Caesars all day Sunday at Kelsey’s Original Roadhouse Redhill. You can even Kick It Up to a double for $8! \nAvailable all day\, every Sunday. \n  \n 
URL:https://steelcitymagazine.ca/event/5-caesars-at-kelseys-original-roadhouse-redhill/2029-10-21/
LOCATION:Kelsey’s Original Roadhouse – Redhill\, 821 Paramount Drive\, Hamilton\, ON\, L8J 2L6\, Canada
CATEGORIES:Restaurant Promotion
ATTACH;FMTTYPE=image/webp:https://steelcitymagazine.ca/wp-content/uploads/2025/05/5-Caesars-Kelseys-Original-Roadhouse.webp
END:VEVENT
BEGIN:VEVENT
DTSTART;TZID=America/Toronto:20291028T110000
DTEND;TZID=America/Toronto:20291028T230000
DTSTAMP:20260423T203203
CREATED:20250526T201827Z
LAST-MODIFIED:20250526T201827Z
UID:10000235-1887879600-1887922800@steelcitymagazine.ca
SUMMARY:$5 Caesars at Kelsey's Original Roadhouse Redhill
DESCRIPTION:Enjoy $5 Caesars all day Sunday at Kelsey’s Original Roadhouse Redhill. You can even Kick It Up to a double for $8! \nAvailable all day\, every Sunday. \n  \n 
URL:https://steelcitymagazine.ca/event/5-caesars-at-kelseys-original-roadhouse-redhill/2029-10-28/
LOCATION:Kelsey’s Original Roadhouse – Redhill\, 821 Paramount Drive\, Hamilton\, ON\, L8J 2L6\, Canada
CATEGORIES:Restaurant Promotion
ATTACH;FMTTYPE=image/webp:https://steelcitymagazine.ca/wp-content/uploads/2025/05/5-Caesars-Kelseys-Original-Roadhouse.webp
END:VEVENT
BEGIN:VEVENT
DTSTART;TZID=America/Toronto:20291104T110000
DTEND;TZID=America/Toronto:20291104T230000
DTSTAMP:20260423T203203
CREATED:20250526T201827Z
LAST-MODIFIED:20250526T201827Z
UID:10000236-1888484400-1888527600@steelcitymagazine.ca
SUMMARY:$5 Caesars at Kelsey's Original Roadhouse Redhill
DESCRIPTION:Enjoy $5 Caesars all day Sunday at Kelsey’s Original Roadhouse Redhill. You can even Kick It Up to a double for $8! \nAvailable all day\, every Sunday. \n  \n 
URL:https://steelcitymagazine.ca/event/5-caesars-at-kelseys-original-roadhouse-redhill/2029-11-04/
LOCATION:Kelsey’s Original Roadhouse – Redhill\, 821 Paramount Drive\, Hamilton\, ON\, L8J 2L6\, Canada
CATEGORIES:Restaurant Promotion
ATTACH;FMTTYPE=image/webp:https://steelcitymagazine.ca/wp-content/uploads/2025/05/5-Caesars-Kelseys-Original-Roadhouse.webp
END:VEVENT
BEGIN:VEVENT
DTSTART;TZID=America/Toronto:20291111T110000
DTEND;TZID=America/Toronto:20291111T230000
DTSTAMP:20260423T203203
CREATED:20250526T201827Z
LAST-MODIFIED:20250526T201827Z
UID:10000237-1889089200-1889132400@steelcitymagazine.ca
SUMMARY:$5 Caesars at Kelsey's Original Roadhouse Redhill
DESCRIPTION:Enjoy $5 Caesars all day Sunday at Kelsey’s Original Roadhouse Redhill. You can even Kick It Up to a double for $8! \nAvailable all day\, every Sunday. \n  \n 
URL:https://steelcitymagazine.ca/event/5-caesars-at-kelseys-original-roadhouse-redhill/2029-11-11/
LOCATION:Kelsey’s Original Roadhouse – Redhill\, 821 Paramount Drive\, Hamilton\, ON\, L8J 2L6\, Canada
CATEGORIES:Restaurant Promotion
ATTACH;FMTTYPE=image/webp:https://steelcitymagazine.ca/wp-content/uploads/2025/05/5-Caesars-Kelseys-Original-Roadhouse.webp
END:VEVENT
BEGIN:VEVENT
DTSTART;TZID=America/Toronto:20291118T110000
DTEND;TZID=America/Toronto:20291118T230000
DTSTAMP:20260423T203203
CREATED:20250526T201827Z
LAST-MODIFIED:20250526T201827Z
UID:10000238-1889694000-1889737200@steelcitymagazine.ca
SUMMARY:$5 Caesars at Kelsey's Original Roadhouse Redhill
DESCRIPTION:Enjoy $5 Caesars all day Sunday at Kelsey’s Original Roadhouse Redhill. You can even Kick It Up to a double for $8! \nAvailable all day\, every Sunday. \n  \n 
URL:https://steelcitymagazine.ca/event/5-caesars-at-kelseys-original-roadhouse-redhill/2029-11-18/
LOCATION:Kelsey’s Original Roadhouse – Redhill\, 821 Paramount Drive\, Hamilton\, ON\, L8J 2L6\, Canada
CATEGORIES:Restaurant Promotion
ATTACH;FMTTYPE=image/webp:https://steelcitymagazine.ca/wp-content/uploads/2025/05/5-Caesars-Kelseys-Original-Roadhouse.webp
END:VEVENT
BEGIN:VEVENT
DTSTART;TZID=America/Toronto:20291125T110000
DTEND;TZID=America/Toronto:20291125T230000
DTSTAMP:20260423T203203
CREATED:20250526T201827Z
LAST-MODIFIED:20250526T201827Z
UID:10000239-1890298800-1890342000@steelcitymagazine.ca
SUMMARY:$5 Caesars at Kelsey's Original Roadhouse Redhill
DESCRIPTION:Enjoy $5 Caesars all day Sunday at Kelsey’s Original Roadhouse Redhill. You can even Kick It Up to a double for $8! \nAvailable all day\, every Sunday. \n  \n 
URL:https://steelcitymagazine.ca/event/5-caesars-at-kelseys-original-roadhouse-redhill/2029-11-25/
LOCATION:Kelsey’s Original Roadhouse – Redhill\, 821 Paramount Drive\, Hamilton\, ON\, L8J 2L6\, Canada
CATEGORIES:Restaurant Promotion
ATTACH;FMTTYPE=image/webp:https://steelcitymagazine.ca/wp-content/uploads/2025/05/5-Caesars-Kelseys-Original-Roadhouse.webp
END:VEVENT
BEGIN:VEVENT
DTSTART;TZID=America/Toronto:20291202T110000
DTEND;TZID=America/Toronto:20291202T230000
DTSTAMP:20260423T203203
CREATED:20250526T201827Z
LAST-MODIFIED:20250526T201827Z
UID:10000240-1890903600-1890946800@steelcitymagazine.ca
SUMMARY:$5 Caesars at Kelsey's Original Roadhouse Redhill
DESCRIPTION:Enjoy $5 Caesars all day Sunday at Kelsey’s Original Roadhouse Redhill. You can even Kick It Up to a double for $8! \nAvailable all day\, every Sunday. \n  \n 
URL:https://steelcitymagazine.ca/event/5-caesars-at-kelseys-original-roadhouse-redhill/2029-12-02/
LOCATION:Kelsey’s Original Roadhouse – Redhill\, 821 Paramount Drive\, Hamilton\, ON\, L8J 2L6\, Canada
CATEGORIES:Restaurant Promotion
ATTACH;FMTTYPE=image/webp:https://steelcitymagazine.ca/wp-content/uploads/2025/05/5-Caesars-Kelseys-Original-Roadhouse.webp
END:VEVENT
BEGIN:VEVENT
DTSTART;TZID=America/Toronto:20291209T110000
DTEND;TZID=America/Toronto:20291209T230000
DTSTAMP:20260423T203203
CREATED:20250526T201827Z
LAST-MODIFIED:20250526T201827Z
UID:10000241-1891508400-1891551600@steelcitymagazine.ca
SUMMARY:$5 Caesars at Kelsey's Original Roadhouse Redhill
DESCRIPTION:Enjoy $5 Caesars all day Sunday at Kelsey’s Original Roadhouse Redhill. You can even Kick It Up to a double for $8! \nAvailable all day\, every Sunday. \n  \n 
URL:https://steelcitymagazine.ca/event/5-caesars-at-kelseys-original-roadhouse-redhill/2029-12-09/
LOCATION:Kelsey’s Original Roadhouse – Redhill\, 821 Paramount Drive\, Hamilton\, ON\, L8J 2L6\, Canada
CATEGORIES:Restaurant Promotion
ATTACH;FMTTYPE=image/webp:https://steelcitymagazine.ca/wp-content/uploads/2025/05/5-Caesars-Kelseys-Original-Roadhouse.webp
END:VEVENT
BEGIN:VEVENT
DTSTART;TZID=America/Toronto:20291216T110000
DTEND;TZID=America/Toronto:20291216T230000
DTSTAMP:20260423T203203
CREATED:20250526T201827Z
LAST-MODIFIED:20250526T201827Z
UID:10000242-1892113200-1892156400@steelcitymagazine.ca
SUMMARY:$5 Caesars at Kelsey's Original Roadhouse Redhill
DESCRIPTION:Enjoy $5 Caesars all day Sunday at Kelsey’s Original Roadhouse Redhill. You can even Kick It Up to a double for $8! \nAvailable all day\, every Sunday. \n  \n 
URL:https://steelcitymagazine.ca/event/5-caesars-at-kelseys-original-roadhouse-redhill/2029-12-16/
LOCATION:Kelsey’s Original Roadhouse – Redhill\, 821 Paramount Drive\, Hamilton\, ON\, L8J 2L6\, Canada
CATEGORIES:Restaurant Promotion
ATTACH;FMTTYPE=image/webp:https://steelcitymagazine.ca/wp-content/uploads/2025/05/5-Caesars-Kelseys-Original-Roadhouse.webp
END:VEVENT
BEGIN:VEVENT
DTSTART;TZID=America/Toronto:20291223T110000
DTEND;TZID=America/Toronto:20291223T230000
DTSTAMP:20260423T203203
CREATED:20250526T201827Z
LAST-MODIFIED:20250526T201827Z
UID:10000243-1892718000-1892761200@steelcitymagazine.ca
SUMMARY:$5 Caesars at Kelsey's Original Roadhouse Redhill
DESCRIPTION:Enjoy $5 Caesars all day Sunday at Kelsey’s Original Roadhouse Redhill. You can even Kick It Up to a double for $8! \nAvailable all day\, every Sunday. \n  \n 
URL:https://steelcitymagazine.ca/event/5-caesars-at-kelseys-original-roadhouse-redhill/2029-12-23/
LOCATION:Kelsey’s Original Roadhouse – Redhill\, 821 Paramount Drive\, Hamilton\, ON\, L8J 2L6\, Canada
CATEGORIES:Restaurant Promotion
ATTACH;FMTTYPE=image/webp:https://steelcitymagazine.ca/wp-content/uploads/2025/05/5-Caesars-Kelseys-Original-Roadhouse.webp
END:VEVENT
BEGIN:VEVENT
DTSTART;TZID=America/Toronto:20291230T110000
DTEND;TZID=America/Toronto:20291230T230000
DTSTAMP:20260423T203203
CREATED:20250526T201827Z
LAST-MODIFIED:20250526T201827Z
UID:10000244-1893322800-1893366000@steelcitymagazine.ca
SUMMARY:$5 Caesars at Kelsey's Original Roadhouse Redhill
DESCRIPTION:Enjoy $5 Caesars all day Sunday at Kelsey’s Original Roadhouse Redhill. You can even Kick It Up to a double for $8! \nAvailable all day\, every Sunday. \n  \n 
URL:https://steelcitymagazine.ca/event/5-caesars-at-kelseys-original-roadhouse-redhill/2029-12-30/
LOCATION:Kelsey’s Original Roadhouse – Redhill\, 821 Paramount Drive\, Hamilton\, ON\, L8J 2L6\, Canada
CATEGORIES:Restaurant Promotion
ATTACH;FMTTYPE=image/webp:https://steelcitymagazine.ca/wp-content/uploads/2025/05/5-Caesars-Kelseys-Original-Roadhouse.webp
END:VEVENT
BEGIN:VEVENT
DTSTART;TZID=America/Toronto:20300106T110000
DTEND;TZID=America/Toronto:20300106T230000
DTSTAMP:20260423T203203
CREATED:20250526T201827Z
LAST-MODIFIED:20250526T201827Z
UID:10000245-1893927600-1893970800@steelcitymagazine.ca
SUMMARY:$5 Caesars at Kelsey's Original Roadhouse Redhill
DESCRIPTION:Enjoy $5 Caesars all day Sunday at Kelsey’s Original Roadhouse Redhill. You can even Kick It Up to a double for $8! \nAvailable all day\, every Sunday. \n  \n 
URL:https://steelcitymagazine.ca/event/5-caesars-at-kelseys-original-roadhouse-redhill/2030-01-06/
LOCATION:Kelsey’s Original Roadhouse – Redhill\, 821 Paramount Drive\, Hamilton\, ON\, L8J 2L6\, Canada
CATEGORIES:Restaurant Promotion
ATTACH;FMTTYPE=image/webp:https://steelcitymagazine.ca/wp-content/uploads/2025/05/5-Caesars-Kelseys-Original-Roadhouse.webp
END:VEVENT
BEGIN:VEVENT
DTSTART;TZID=America/Toronto:20300113T110000
DTEND;TZID=America/Toronto:20300113T230000
DTSTAMP:20260423T203203
CREATED:20250526T201827Z
LAST-MODIFIED:20250526T201827Z
UID:10000246-1894532400-1894575600@steelcitymagazine.ca
SUMMARY:$5 Caesars at Kelsey's Original Roadhouse Redhill
DESCRIPTION:Enjoy $5 Caesars all day Sunday at Kelsey’s Original Roadhouse Redhill. You can even Kick It Up to a double for $8! \nAvailable all day\, every Sunday. \n  \n 
URL:https://steelcitymagazine.ca/event/5-caesars-at-kelseys-original-roadhouse-redhill/2030-01-13/
LOCATION:Kelsey’s Original Roadhouse – Redhill\, 821 Paramount Drive\, Hamilton\, ON\, L8J 2L6\, Canada
CATEGORIES:Restaurant Promotion
ATTACH;FMTTYPE=image/webp:https://steelcitymagazine.ca/wp-content/uploads/2025/05/5-Caesars-Kelseys-Original-Roadhouse.webp
END:VEVENT
BEGIN:VEVENT
DTSTART;TZID=America/Toronto:20300120T110000
DTEND;TZID=America/Toronto:20300120T230000
DTSTAMP:20260423T203203
CREATED:20250526T201827Z
LAST-MODIFIED:20250526T201827Z
UID:10000247-1895137200-1895180400@steelcitymagazine.ca
SUMMARY:$5 Caesars at Kelsey's Original Roadhouse Redhill
DESCRIPTION:Enjoy $5 Caesars all day Sunday at Kelsey’s Original Roadhouse Redhill. You can even Kick It Up to a double for $8! \nAvailable all day\, every Sunday. \n  \n 
URL:https://steelcitymagazine.ca/event/5-caesars-at-kelseys-original-roadhouse-redhill/2030-01-20/
LOCATION:Kelsey’s Original Roadhouse – Redhill\, 821 Paramount Drive\, Hamilton\, ON\, L8J 2L6\, Canada
CATEGORIES:Restaurant Promotion
ATTACH;FMTTYPE=image/webp:https://steelcitymagazine.ca/wp-content/uploads/2025/05/5-Caesars-Kelseys-Original-Roadhouse.webp
END:VEVENT
BEGIN:VEVENT
DTSTART;TZID=America/Toronto:20300127T110000
DTEND;TZID=America/Toronto:20300127T230000
DTSTAMP:20260423T203203
CREATED:20250526T201827Z
LAST-MODIFIED:20250526T201827Z
UID:10000248-1895742000-1895785200@steelcitymagazine.ca
SUMMARY:$5 Caesars at Kelsey's Original Roadhouse Redhill
DESCRIPTION:Enjoy $5 Caesars all day Sunday at Kelsey’s Original Roadhouse Redhill. You can even Kick It Up to a double for $8! \nAvailable all day\, every Sunday. \n  \n 
URL:https://steelcitymagazine.ca/event/5-caesars-at-kelseys-original-roadhouse-redhill/2030-01-27/
LOCATION:Kelsey’s Original Roadhouse – Redhill\, 821 Paramount Drive\, Hamilton\, ON\, L8J 2L6\, Canada
CATEGORIES:Restaurant Promotion
ATTACH;FMTTYPE=image/webp:https://steelcitymagazine.ca/wp-content/uploads/2025/05/5-Caesars-Kelseys-Original-Roadhouse.webp
END:VEVENT
BEGIN:VEVENT
DTSTART;TZID=America/Toronto:20300203T110000
DTEND;TZID=America/Toronto:20300203T230000
DTSTAMP:20260423T203203
CREATED:20250526T201827Z
LAST-MODIFIED:20250526T201827Z
UID:10000249-1896346800-1896390000@steelcitymagazine.ca
SUMMARY:$5 Caesars at Kelsey's Original Roadhouse Redhill
DESCRIPTION:Enjoy $5 Caesars all day Sunday at Kelsey’s Original Roadhouse Redhill. You can even Kick It Up to a double for $8! \nAvailable all day\, every Sunday. \n  \n 
URL:https://steelcitymagazine.ca/event/5-caesars-at-kelseys-original-roadhouse-redhill/2030-02-03/
LOCATION:Kelsey’s Original Roadhouse – Redhill\, 821 Paramount Drive\, Hamilton\, ON\, L8J 2L6\, Canada
CATEGORIES:Restaurant Promotion
ATTACH;FMTTYPE=image/webp:https://steelcitymagazine.ca/wp-content/uploads/2025/05/5-Caesars-Kelseys-Original-Roadhouse.webp
END:VEVENT
BEGIN:VEVENT
DTSTART;TZID=America/Toronto:20300210T110000
DTEND;TZID=America/Toronto:20300210T230000
DTSTAMP:20260423T203203
CREATED:20250526T201827Z
LAST-MODIFIED:20250526T201827Z
UID:10000250-1896951600-1896994800@steelcitymagazine.ca
SUMMARY:$5 Caesars at Kelsey's Original Roadhouse Redhill
DESCRIPTION:Enjoy $5 Caesars all day Sunday at Kelsey’s Original Roadhouse Redhill. You can even Kick It Up to a double for $8! \nAvailable all day\, every Sunday. \n  \n 
URL:https://steelcitymagazine.ca/event/5-caesars-at-kelseys-original-roadhouse-redhill/2030-02-10/
LOCATION:Kelsey’s Original Roadhouse – Redhill\, 821 Paramount Drive\, Hamilton\, ON\, L8J 2L6\, Canada
CATEGORIES:Restaurant Promotion
ATTACH;FMTTYPE=image/webp:https://steelcitymagazine.ca/wp-content/uploads/2025/05/5-Caesars-Kelseys-Original-Roadhouse.webp
END:VEVENT
BEGIN:VEVENT
DTSTART;TZID=America/Toronto:20300217T110000
DTEND;TZID=America/Toronto:20300217T230000
DTSTAMP:20260423T203203
CREATED:20250526T201827Z
LAST-MODIFIED:20250526T201827Z
UID:10000251-1897556400-1897599600@steelcitymagazine.ca
SUMMARY:$5 Caesars at Kelsey's Original Roadhouse Redhill
DESCRIPTION:Enjoy $5 Caesars all day Sunday at Kelsey’s Original Roadhouse Redhill. You can even Kick It Up to a double for $8! \nAvailable all day\, every Sunday. \n  \n 
URL:https://steelcitymagazine.ca/event/5-caesars-at-kelseys-original-roadhouse-redhill/2030-02-17/
LOCATION:Kelsey’s Original Roadhouse – Redhill\, 821 Paramount Drive\, Hamilton\, ON\, L8J 2L6\, Canada
CATEGORIES:Restaurant Promotion
ATTACH;FMTTYPE=image/webp:https://steelcitymagazine.ca/wp-content/uploads/2025/05/5-Caesars-Kelseys-Original-Roadhouse.webp
END:VEVENT
BEGIN:VEVENT
DTSTART;TZID=America/Toronto:20300224T110000
DTEND;TZID=America/Toronto:20300224T230000
DTSTAMP:20260423T203203
CREATED:20250526T201827Z
LAST-MODIFIED:20250526T201827Z
UID:10000252-1898161200-1898204400@steelcitymagazine.ca
SUMMARY:$5 Caesars at Kelsey's Original Roadhouse Redhill
DESCRIPTION:Enjoy $5 Caesars all day Sunday at Kelsey’s Original Roadhouse Redhill. You can even Kick It Up to a double for $8! \nAvailable all day\, every Sunday. \n  \n 
URL:https://steelcitymagazine.ca/event/5-caesars-at-kelseys-original-roadhouse-redhill/2030-02-24/
LOCATION:Kelsey’s Original Roadhouse – Redhill\, 821 Paramount Drive\, Hamilton\, ON\, L8J 2L6\, Canada
CATEGORIES:Restaurant Promotion
ATTACH;FMTTYPE=image/webp:https://steelcitymagazine.ca/wp-content/uploads/2025/05/5-Caesars-Kelseys-Original-Roadhouse.webp
END:VEVENT
BEGIN:VEVENT
DTSTART;TZID=America/Toronto:20300303T110000
DTEND;TZID=America/Toronto:20300303T230000
DTSTAMP:20260423T203203
CREATED:20250526T201827Z
LAST-MODIFIED:20250526T201827Z
UID:10000253-1898766000-1898809200@steelcitymagazine.ca
SUMMARY:$5 Caesars at Kelsey's Original Roadhouse Redhill
DESCRIPTION:Enjoy $5 Caesars all day Sunday at Kelsey’s Original Roadhouse Redhill. You can even Kick It Up to a double for $8! \nAvailable all day\, every Sunday. \n  \n 
URL:https://steelcitymagazine.ca/event/5-caesars-at-kelseys-original-roadhouse-redhill/2030-03-03/
LOCATION:Kelsey’s Original Roadhouse – Redhill\, 821 Paramount Drive\, Hamilton\, ON\, L8J 2L6\, Canada
CATEGORIES:Restaurant Promotion
ATTACH;FMTTYPE=image/webp:https://steelcitymagazine.ca/wp-content/uploads/2025/05/5-Caesars-Kelseys-Original-Roadhouse.webp
END:VEVENT
BEGIN:VEVENT
DTSTART;TZID=America/Toronto:20300310T110000
DTEND;TZID=America/Toronto:20300310T230000
DTSTAMP:20260423T203203
CREATED:20250526T201827Z
LAST-MODIFIED:20250526T201827Z
UID:10000254-1899370800-1899414000@steelcitymagazine.ca
SUMMARY:$5 Caesars at Kelsey's Original Roadhouse Redhill
DESCRIPTION:Enjoy $5 Caesars all day Sunday at Kelsey’s Original Roadhouse Redhill. You can even Kick It Up to a double for $8! \nAvailable all day\, every Sunday. \n  \n 
URL:https://steelcitymagazine.ca/event/5-caesars-at-kelseys-original-roadhouse-redhill/2030-03-10/
LOCATION:Kelsey’s Original Roadhouse – Redhill\, 821 Paramount Drive\, Hamilton\, ON\, L8J 2L6\, Canada
CATEGORIES:Restaurant Promotion
ATTACH;FMTTYPE=image/webp:https://steelcitymagazine.ca/wp-content/uploads/2025/05/5-Caesars-Kelseys-Original-Roadhouse.webp
END:VEVENT
BEGIN:VEVENT
DTSTART;TZID=America/Toronto:20300317T110000
DTEND;TZID=America/Toronto:20300317T230000
DTSTAMP:20260423T203203
CREATED:20250526T201827Z
LAST-MODIFIED:20250526T201827Z
UID:10000255-1899975600-1900018800@steelcitymagazine.ca
SUMMARY:$5 Caesars at Kelsey's Original Roadhouse Redhill
DESCRIPTION:Enjoy $5 Caesars all day Sunday at Kelsey’s Original Roadhouse Redhill. You can even Kick It Up to a double for $8! \nAvailable all day\, every Sunday. \n  \n 
URL:https://steelcitymagazine.ca/event/5-caesars-at-kelseys-original-roadhouse-redhill/2030-03-17/
LOCATION:Kelsey’s Original Roadhouse – Redhill\, 821 Paramount Drive\, Hamilton\, ON\, L8J 2L6\, Canada
CATEGORIES:Restaurant Promotion
ATTACH;FMTTYPE=image/webp:https://steelcitymagazine.ca/wp-content/uploads/2025/05/5-Caesars-Kelseys-Original-Roadhouse.webp
END:VEVENT
BEGIN:VEVENT
DTSTART;TZID=America/Toronto:20300324T110000
DTEND;TZID=America/Toronto:20300324T230000
DTSTAMP:20260423T203203
CREATED:20250526T201827Z
LAST-MODIFIED:20250526T201827Z
UID:10000256-1900580400-1900623600@steelcitymagazine.ca
SUMMARY:$5 Caesars at Kelsey's Original Roadhouse Redhill
DESCRIPTION:Enjoy $5 Caesars all day Sunday at Kelsey’s Original Roadhouse Redhill. You can even Kick It Up to a double for $8! \nAvailable all day\, every Sunday. \n  \n 
URL:https://steelcitymagazine.ca/event/5-caesars-at-kelseys-original-roadhouse-redhill/2030-03-24/
LOCATION:Kelsey’s Original Roadhouse – Redhill\, 821 Paramount Drive\, Hamilton\, ON\, L8J 2L6\, Canada
CATEGORIES:Restaurant Promotion
ATTACH;FMTTYPE=image/webp:https://steelcitymagazine.ca/wp-content/uploads/2025/05/5-Caesars-Kelseys-Original-Roadhouse.webp
END:VEVENT
BEGIN:VEVENT
DTSTART;TZID=America/Toronto:20300331T110000
DTEND;TZID=America/Toronto:20300331T230000
DTSTAMP:20260423T203203
CREATED:20250526T201827Z
LAST-MODIFIED:20250526T201827Z
UID:10000257-1901185200-1901228400@steelcitymagazine.ca
SUMMARY:$5 Caesars at Kelsey's Original Roadhouse Redhill
DESCRIPTION:Enjoy $5 Caesars all day Sunday at Kelsey’s Original Roadhouse Redhill. You can even Kick It Up to a double for $8! \nAvailable all day\, every Sunday. \n  \n 
URL:https://steelcitymagazine.ca/event/5-caesars-at-kelseys-original-roadhouse-redhill/2030-03-31/
LOCATION:Kelsey’s Original Roadhouse – Redhill\, 821 Paramount Drive\, Hamilton\, ON\, L8J 2L6\, Canada
CATEGORIES:Restaurant Promotion
ATTACH;FMTTYPE=image/webp:https://steelcitymagazine.ca/wp-content/uploads/2025/05/5-Caesars-Kelseys-Original-Roadhouse.webp
END:VEVENT
BEGIN:VEVENT
DTSTART;TZID=America/Toronto:20300407T110000
DTEND;TZID=America/Toronto:20300407T230000
DTSTAMP:20260423T203203
CREATED:20250526T201827Z
LAST-MODIFIED:20250526T201827Z
UID:10000258-1901790000-1901833200@steelcitymagazine.ca
SUMMARY:$5 Caesars at Kelsey's Original Roadhouse Redhill
DESCRIPTION:Enjoy $5 Caesars all day Sunday at Kelsey’s Original Roadhouse Redhill. You can even Kick It Up to a double for $8! \nAvailable all day\, every Sunday. \n  \n 
URL:https://steelcitymagazine.ca/event/5-caesars-at-kelseys-original-roadhouse-redhill/2030-04-07/
LOCATION:Kelsey’s Original Roadhouse – Redhill\, 821 Paramount Drive\, Hamilton\, ON\, L8J 2L6\, Canada
CATEGORIES:Restaurant Promotion
ATTACH;FMTTYPE=image/webp:https://steelcitymagazine.ca/wp-content/uploads/2025/05/5-Caesars-Kelseys-Original-Roadhouse.webp
END:VEVENT
BEGIN:VEVENT
DTSTART;TZID=America/Toronto:20300414T110000
DTEND;TZID=America/Toronto:20300414T230000
DTSTAMP:20260423T203203
CREATED:20250526T201827Z
LAST-MODIFIED:20250526T201827Z
UID:10000259-1902394800-1902438000@steelcitymagazine.ca
SUMMARY:$5 Caesars at Kelsey's Original Roadhouse Redhill
DESCRIPTION:Enjoy $5 Caesars all day Sunday at Kelsey’s Original Roadhouse Redhill. You can even Kick It Up to a double for $8! \nAvailable all day\, every Sunday. \n  \n 
URL:https://steelcitymagazine.ca/event/5-caesars-at-kelseys-original-roadhouse-redhill/2030-04-14/
LOCATION:Kelsey’s Original Roadhouse – Redhill\, 821 Paramount Drive\, Hamilton\, ON\, L8J 2L6\, Canada
CATEGORIES:Restaurant Promotion
ATTACH;FMTTYPE=image/webp:https://steelcitymagazine.ca/wp-content/uploads/2025/05/5-Caesars-Kelseys-Original-Roadhouse.webp
END:VEVENT
BEGIN:VEVENT
DTSTART;TZID=America/Toronto:20300421T110000
DTEND;TZID=America/Toronto:20300421T230000
DTSTAMP:20260423T203203
CREATED:20250526T201827Z
LAST-MODIFIED:20250526T201827Z
UID:10000260-1902999600-1903042800@steelcitymagazine.ca
SUMMARY:$5 Caesars at Kelsey's Original Roadhouse Redhill
DESCRIPTION:Enjoy $5 Caesars all day Sunday at Kelsey’s Original Roadhouse Redhill. You can even Kick It Up to a double for $8! \nAvailable all day\, every Sunday. \n  \n 
URL:https://steelcitymagazine.ca/event/5-caesars-at-kelseys-original-roadhouse-redhill/2030-04-21/
LOCATION:Kelsey’s Original Roadhouse – Redhill\, 821 Paramount Drive\, Hamilton\, ON\, L8J 2L6\, Canada
CATEGORIES:Restaurant Promotion
ATTACH;FMTTYPE=image/webp:https://steelcitymagazine.ca/wp-content/uploads/2025/05/5-Caesars-Kelseys-Original-Roadhouse.webp
END:VEVENT
BEGIN:VEVENT
DTSTART;TZID=America/Toronto:20300428T110000
DTEND;TZID=America/Toronto:20300428T230000
DTSTAMP:20260423T203203
CREATED:20250526T201827Z
LAST-MODIFIED:20250526T201827Z
UID:10000261-1903604400-1903647600@steelcitymagazine.ca
SUMMARY:$5 Caesars at Kelsey's Original Roadhouse Redhill
DESCRIPTION:Enjoy $5 Caesars all day Sunday at Kelsey’s Original Roadhouse Redhill. You can even Kick It Up to a double for $8! \nAvailable all day\, every Sunday. \n  \n 
URL:https://steelcitymagazine.ca/event/5-caesars-at-kelseys-original-roadhouse-redhill/2030-04-28/
LOCATION:Kelsey’s Original Roadhouse – Redhill\, 821 Paramount Drive\, Hamilton\, ON\, L8J 2L6\, Canada
CATEGORIES:Restaurant Promotion
ATTACH;FMTTYPE=image/webp:https://steelcitymagazine.ca/wp-content/uploads/2025/05/5-Caesars-Kelseys-Original-Roadhouse.webp
END:VEVENT
END:VCALENDAR