BEGIN:VCALENDAR
VERSION:2.0
PRODID:-//Steel City Magazine - ECPv6.13.1//NONSGML v1.0//EN
CALSCALE:GREGORIAN
METHOD:PUBLISH
X-ORIGINAL-URL:https://steelcitymagazine.ca
X-WR-CALDESC:Events for Steel City Magazine
REFRESH-INTERVAL;VALUE=DURATION:PT1H
X-Robots-Tag:noindex
X-PUBLISHED-TTL:PT1H
BEGIN:VTIMEZONE
TZID:America/Toronto
BEGIN:DAYLIGHT
TZOFFSETFROM:-0500
TZOFFSETTO:-0400
TZNAME:EDT
DTSTART:20280312T070000
END:DAYLIGHT
BEGIN:STANDARD
TZOFFSETFROM:-0400
TZOFFSETTO:-0500
TZNAME:EST
DTSTART:20281105T060000
END:STANDARD
BEGIN:DAYLIGHT
TZOFFSETFROM:-0500
TZOFFSETTO:-0400
TZNAME:EDT
DTSTART:20290311T070000
END:DAYLIGHT
BEGIN:STANDARD
TZOFFSETFROM:-0400
TZOFFSETTO:-0500
TZNAME:EST
DTSTART:20291104T060000
END:STANDARD
END:VTIMEZONE
BEGIN:VEVENT
DTSTART;TZID=America/Toronto:20280813T110000
DTEND;TZID=America/Toronto:20280813T230000
DTSTAMP:20260423T135116
CREATED:20250526T201827Z
LAST-MODIFIED:20250526T201827Z
UID:10000172-1849777200-1849820400@steelcitymagazine.ca
SUMMARY:$5 Caesars at Kelsey's Original Roadhouse Redhill
DESCRIPTION:Enjoy $5 Caesars all day Sunday at Kelsey’s Original Roadhouse Redhill. You can even Kick It Up to a double for $8! \nAvailable all day\, every Sunday. \n  \n 
URL:https://steelcitymagazine.ca/event/5-caesars-at-kelseys-original-roadhouse-redhill/2028-08-13/
LOCATION:Kelsey’s Original Roadhouse – Redhill\, 821 Paramount Drive\, Hamilton\, ON\, L8J 2L6\, Canada
CATEGORIES:Restaurant Promotion
ATTACH;FMTTYPE=image/webp:https://steelcitymagazine.ca/wp-content/uploads/2025/05/5-Caesars-Kelseys-Original-Roadhouse.webp
END:VEVENT
BEGIN:VEVENT
DTSTART;TZID=America/Toronto:20280820T110000
DTEND;TZID=America/Toronto:20280820T230000
DTSTAMP:20260423T135116
CREATED:20250526T201827Z
LAST-MODIFIED:20250526T201827Z
UID:10000173-1850382000-1850425200@steelcitymagazine.ca
SUMMARY:$5 Caesars at Kelsey's Original Roadhouse Redhill
DESCRIPTION:Enjoy $5 Caesars all day Sunday at Kelsey’s Original Roadhouse Redhill. You can even Kick It Up to a double for $8! \nAvailable all day\, every Sunday. \n  \n 
URL:https://steelcitymagazine.ca/event/5-caesars-at-kelseys-original-roadhouse-redhill/2028-08-20/
LOCATION:Kelsey’s Original Roadhouse – Redhill\, 821 Paramount Drive\, Hamilton\, ON\, L8J 2L6\, Canada
CATEGORIES:Restaurant Promotion
ATTACH;FMTTYPE=image/webp:https://steelcitymagazine.ca/wp-content/uploads/2025/05/5-Caesars-Kelseys-Original-Roadhouse.webp
END:VEVENT
BEGIN:VEVENT
DTSTART;TZID=America/Toronto:20280827T110000
DTEND;TZID=America/Toronto:20280827T230000
DTSTAMP:20260423T135116
CREATED:20250526T201827Z
LAST-MODIFIED:20250526T201827Z
UID:10000174-1850986800-1851030000@steelcitymagazine.ca
SUMMARY:$5 Caesars at Kelsey's Original Roadhouse Redhill
DESCRIPTION:Enjoy $5 Caesars all day Sunday at Kelsey’s Original Roadhouse Redhill. You can even Kick It Up to a double for $8! \nAvailable all day\, every Sunday. \n  \n 
URL:https://steelcitymagazine.ca/event/5-caesars-at-kelseys-original-roadhouse-redhill/2028-08-27/
LOCATION:Kelsey’s Original Roadhouse – Redhill\, 821 Paramount Drive\, Hamilton\, ON\, L8J 2L6\, Canada
CATEGORIES:Restaurant Promotion
ATTACH;FMTTYPE=image/webp:https://steelcitymagazine.ca/wp-content/uploads/2025/05/5-Caesars-Kelseys-Original-Roadhouse.webp
END:VEVENT
BEGIN:VEVENT
DTSTART;TZID=America/Toronto:20280903T110000
DTEND;TZID=America/Toronto:20280903T230000
DTSTAMP:20260423T135116
CREATED:20250526T201827Z
LAST-MODIFIED:20250526T201827Z
UID:10000175-1851591600-1851634800@steelcitymagazine.ca
SUMMARY:$5 Caesars at Kelsey's Original Roadhouse Redhill
DESCRIPTION:Enjoy $5 Caesars all day Sunday at Kelsey’s Original Roadhouse Redhill. You can even Kick It Up to a double for $8! \nAvailable all day\, every Sunday. \n  \n 
URL:https://steelcitymagazine.ca/event/5-caesars-at-kelseys-original-roadhouse-redhill/2028-09-03/
LOCATION:Kelsey’s Original Roadhouse – Redhill\, 821 Paramount Drive\, Hamilton\, ON\, L8J 2L6\, Canada
CATEGORIES:Restaurant Promotion
ATTACH;FMTTYPE=image/webp:https://steelcitymagazine.ca/wp-content/uploads/2025/05/5-Caesars-Kelseys-Original-Roadhouse.webp
END:VEVENT
BEGIN:VEVENT
DTSTART;TZID=America/Toronto:20280910T110000
DTEND;TZID=America/Toronto:20280910T230000
DTSTAMP:20260423T135116
CREATED:20250526T201827Z
LAST-MODIFIED:20250526T201827Z
UID:10000176-1852196400-1852239600@steelcitymagazine.ca
SUMMARY:$5 Caesars at Kelsey's Original Roadhouse Redhill
DESCRIPTION:Enjoy $5 Caesars all day Sunday at Kelsey’s Original Roadhouse Redhill. You can even Kick It Up to a double for $8! \nAvailable all day\, every Sunday. \n  \n 
URL:https://steelcitymagazine.ca/event/5-caesars-at-kelseys-original-roadhouse-redhill/2028-09-10/
LOCATION:Kelsey’s Original Roadhouse – Redhill\, 821 Paramount Drive\, Hamilton\, ON\, L8J 2L6\, Canada
CATEGORIES:Restaurant Promotion
ATTACH;FMTTYPE=image/webp:https://steelcitymagazine.ca/wp-content/uploads/2025/05/5-Caesars-Kelseys-Original-Roadhouse.webp
END:VEVENT
BEGIN:VEVENT
DTSTART;TZID=America/Toronto:20280917T110000
DTEND;TZID=America/Toronto:20280917T230000
DTSTAMP:20260423T135116
CREATED:20250526T201827Z
LAST-MODIFIED:20250526T201827Z
UID:10000177-1852801200-1852844400@steelcitymagazine.ca
SUMMARY:$5 Caesars at Kelsey's Original Roadhouse Redhill
DESCRIPTION:Enjoy $5 Caesars all day Sunday at Kelsey’s Original Roadhouse Redhill. You can even Kick It Up to a double for $8! \nAvailable all day\, every Sunday. \n  \n 
URL:https://steelcitymagazine.ca/event/5-caesars-at-kelseys-original-roadhouse-redhill/2028-09-17/
LOCATION:Kelsey’s Original Roadhouse – Redhill\, 821 Paramount Drive\, Hamilton\, ON\, L8J 2L6\, Canada
CATEGORIES:Restaurant Promotion
ATTACH;FMTTYPE=image/webp:https://steelcitymagazine.ca/wp-content/uploads/2025/05/5-Caesars-Kelseys-Original-Roadhouse.webp
END:VEVENT
BEGIN:VEVENT
DTSTART;TZID=America/Toronto:20280924T110000
DTEND;TZID=America/Toronto:20280924T230000
DTSTAMP:20260423T135116
CREATED:20250526T201827Z
LAST-MODIFIED:20250526T201827Z
UID:10000178-1853406000-1853449200@steelcitymagazine.ca
SUMMARY:$5 Caesars at Kelsey's Original Roadhouse Redhill
DESCRIPTION:Enjoy $5 Caesars all day Sunday at Kelsey’s Original Roadhouse Redhill. You can even Kick It Up to a double for $8! \nAvailable all day\, every Sunday. \n  \n 
URL:https://steelcitymagazine.ca/event/5-caesars-at-kelseys-original-roadhouse-redhill/2028-09-24/
LOCATION:Kelsey’s Original Roadhouse – Redhill\, 821 Paramount Drive\, Hamilton\, ON\, L8J 2L6\, Canada
CATEGORIES:Restaurant Promotion
ATTACH;FMTTYPE=image/webp:https://steelcitymagazine.ca/wp-content/uploads/2025/05/5-Caesars-Kelseys-Original-Roadhouse.webp
END:VEVENT
BEGIN:VEVENT
DTSTART;TZID=America/Toronto:20281001T110000
DTEND;TZID=America/Toronto:20281001T230000
DTSTAMP:20260423T135116
CREATED:20250526T201827Z
LAST-MODIFIED:20250526T201827Z
UID:10000179-1854010800-1854054000@steelcitymagazine.ca
SUMMARY:$5 Caesars at Kelsey's Original Roadhouse Redhill
DESCRIPTION:Enjoy $5 Caesars all day Sunday at Kelsey’s Original Roadhouse Redhill. You can even Kick It Up to a double for $8! \nAvailable all day\, every Sunday. \n  \n 
URL:https://steelcitymagazine.ca/event/5-caesars-at-kelseys-original-roadhouse-redhill/2028-10-01/
LOCATION:Kelsey’s Original Roadhouse – Redhill\, 821 Paramount Drive\, Hamilton\, ON\, L8J 2L6\, Canada
CATEGORIES:Restaurant Promotion
ATTACH;FMTTYPE=image/webp:https://steelcitymagazine.ca/wp-content/uploads/2025/05/5-Caesars-Kelseys-Original-Roadhouse.webp
END:VEVENT
BEGIN:VEVENT
DTSTART;TZID=America/Toronto:20281008T110000
DTEND;TZID=America/Toronto:20281008T230000
DTSTAMP:20260423T135116
CREATED:20250526T201827Z
LAST-MODIFIED:20250526T201827Z
UID:10000180-1854615600-1854658800@steelcitymagazine.ca
SUMMARY:$5 Caesars at Kelsey's Original Roadhouse Redhill
DESCRIPTION:Enjoy $5 Caesars all day Sunday at Kelsey’s Original Roadhouse Redhill. You can even Kick It Up to a double for $8! \nAvailable all day\, every Sunday. \n  \n 
URL:https://steelcitymagazine.ca/event/5-caesars-at-kelseys-original-roadhouse-redhill/2028-10-08/
LOCATION:Kelsey’s Original Roadhouse – Redhill\, 821 Paramount Drive\, Hamilton\, ON\, L8J 2L6\, Canada
CATEGORIES:Restaurant Promotion
ATTACH;FMTTYPE=image/webp:https://steelcitymagazine.ca/wp-content/uploads/2025/05/5-Caesars-Kelseys-Original-Roadhouse.webp
END:VEVENT
BEGIN:VEVENT
DTSTART;TZID=America/Toronto:20281015T110000
DTEND;TZID=America/Toronto:20281015T230000
DTSTAMP:20260423T135116
CREATED:20250526T201827Z
LAST-MODIFIED:20250526T201827Z
UID:10000181-1855220400-1855263600@steelcitymagazine.ca
SUMMARY:$5 Caesars at Kelsey's Original Roadhouse Redhill
DESCRIPTION:Enjoy $5 Caesars all day Sunday at Kelsey’s Original Roadhouse Redhill. You can even Kick It Up to a double for $8! \nAvailable all day\, every Sunday. \n  \n 
URL:https://steelcitymagazine.ca/event/5-caesars-at-kelseys-original-roadhouse-redhill/2028-10-15/
LOCATION:Kelsey’s Original Roadhouse – Redhill\, 821 Paramount Drive\, Hamilton\, ON\, L8J 2L6\, Canada
CATEGORIES:Restaurant Promotion
ATTACH;FMTTYPE=image/webp:https://steelcitymagazine.ca/wp-content/uploads/2025/05/5-Caesars-Kelseys-Original-Roadhouse.webp
END:VEVENT
BEGIN:VEVENT
DTSTART;TZID=America/Toronto:20281022T110000
DTEND;TZID=America/Toronto:20281022T230000
DTSTAMP:20260423T135116
CREATED:20250526T201827Z
LAST-MODIFIED:20250526T201827Z
UID:10000182-1855825200-1855868400@steelcitymagazine.ca
SUMMARY:$5 Caesars at Kelsey's Original Roadhouse Redhill
DESCRIPTION:Enjoy $5 Caesars all day Sunday at Kelsey’s Original Roadhouse Redhill. You can even Kick It Up to a double for $8! \nAvailable all day\, every Sunday. \n  \n 
URL:https://steelcitymagazine.ca/event/5-caesars-at-kelseys-original-roadhouse-redhill/2028-10-22/
LOCATION:Kelsey’s Original Roadhouse – Redhill\, 821 Paramount Drive\, Hamilton\, ON\, L8J 2L6\, Canada
CATEGORIES:Restaurant Promotion
ATTACH;FMTTYPE=image/webp:https://steelcitymagazine.ca/wp-content/uploads/2025/05/5-Caesars-Kelseys-Original-Roadhouse.webp
END:VEVENT
BEGIN:VEVENT
DTSTART;TZID=America/Toronto:20281029T110000
DTEND;TZID=America/Toronto:20281029T230000
DTSTAMP:20260423T135116
CREATED:20250526T201827Z
LAST-MODIFIED:20250526T201827Z
UID:10000183-1856430000-1856473200@steelcitymagazine.ca
SUMMARY:$5 Caesars at Kelsey's Original Roadhouse Redhill
DESCRIPTION:Enjoy $5 Caesars all day Sunday at Kelsey’s Original Roadhouse Redhill. You can even Kick It Up to a double for $8! \nAvailable all day\, every Sunday. \n  \n 
URL:https://steelcitymagazine.ca/event/5-caesars-at-kelseys-original-roadhouse-redhill/2028-10-29/
LOCATION:Kelsey’s Original Roadhouse – Redhill\, 821 Paramount Drive\, Hamilton\, ON\, L8J 2L6\, Canada
CATEGORIES:Restaurant Promotion
ATTACH;FMTTYPE=image/webp:https://steelcitymagazine.ca/wp-content/uploads/2025/05/5-Caesars-Kelseys-Original-Roadhouse.webp
END:VEVENT
BEGIN:VEVENT
DTSTART;TZID=America/Toronto:20281105T110000
DTEND;TZID=America/Toronto:20281105T230000
DTSTAMP:20260423T135116
CREATED:20250526T201827Z
LAST-MODIFIED:20250526T201827Z
UID:10000184-1857034800-1857078000@steelcitymagazine.ca
SUMMARY:$5 Caesars at Kelsey's Original Roadhouse Redhill
DESCRIPTION:Enjoy $5 Caesars all day Sunday at Kelsey’s Original Roadhouse Redhill. You can even Kick It Up to a double for $8! \nAvailable all day\, every Sunday. \n  \n 
URL:https://steelcitymagazine.ca/event/5-caesars-at-kelseys-original-roadhouse-redhill/2028-11-05/
LOCATION:Kelsey’s Original Roadhouse – Redhill\, 821 Paramount Drive\, Hamilton\, ON\, L8J 2L6\, Canada
CATEGORIES:Restaurant Promotion
ATTACH;FMTTYPE=image/webp:https://steelcitymagazine.ca/wp-content/uploads/2025/05/5-Caesars-Kelseys-Original-Roadhouse.webp
END:VEVENT
BEGIN:VEVENT
DTSTART;TZID=America/Toronto:20281112T110000
DTEND;TZID=America/Toronto:20281112T230000
DTSTAMP:20260423T135116
CREATED:20250526T201827Z
LAST-MODIFIED:20250526T201827Z
UID:10000185-1857639600-1857682800@steelcitymagazine.ca
SUMMARY:$5 Caesars at Kelsey's Original Roadhouse Redhill
DESCRIPTION:Enjoy $5 Caesars all day Sunday at Kelsey’s Original Roadhouse Redhill. You can even Kick It Up to a double for $8! \nAvailable all day\, every Sunday. \n  \n 
URL:https://steelcitymagazine.ca/event/5-caesars-at-kelseys-original-roadhouse-redhill/2028-11-12/
LOCATION:Kelsey’s Original Roadhouse – Redhill\, 821 Paramount Drive\, Hamilton\, ON\, L8J 2L6\, Canada
CATEGORIES:Restaurant Promotion
ATTACH;FMTTYPE=image/webp:https://steelcitymagazine.ca/wp-content/uploads/2025/05/5-Caesars-Kelseys-Original-Roadhouse.webp
END:VEVENT
BEGIN:VEVENT
DTSTART;TZID=America/Toronto:20281119T110000
DTEND;TZID=America/Toronto:20281119T230000
DTSTAMP:20260423T135116
CREATED:20250526T201827Z
LAST-MODIFIED:20250526T201827Z
UID:10000186-1858244400-1858287600@steelcitymagazine.ca
SUMMARY:$5 Caesars at Kelsey's Original Roadhouse Redhill
DESCRIPTION:Enjoy $5 Caesars all day Sunday at Kelsey’s Original Roadhouse Redhill. You can even Kick It Up to a double for $8! \nAvailable all day\, every Sunday. \n  \n 
URL:https://steelcitymagazine.ca/event/5-caesars-at-kelseys-original-roadhouse-redhill/2028-11-19/
LOCATION:Kelsey’s Original Roadhouse – Redhill\, 821 Paramount Drive\, Hamilton\, ON\, L8J 2L6\, Canada
CATEGORIES:Restaurant Promotion
ATTACH;FMTTYPE=image/webp:https://steelcitymagazine.ca/wp-content/uploads/2025/05/5-Caesars-Kelseys-Original-Roadhouse.webp
END:VEVENT
BEGIN:VEVENT
DTSTART;TZID=America/Toronto:20281126T110000
DTEND;TZID=America/Toronto:20281126T230000
DTSTAMP:20260423T135116
CREATED:20250526T201827Z
LAST-MODIFIED:20250526T201827Z
UID:10000187-1858849200-1858892400@steelcitymagazine.ca
SUMMARY:$5 Caesars at Kelsey's Original Roadhouse Redhill
DESCRIPTION:Enjoy $5 Caesars all day Sunday at Kelsey’s Original Roadhouse Redhill. You can even Kick It Up to a double for $8! \nAvailable all day\, every Sunday. \n  \n 
URL:https://steelcitymagazine.ca/event/5-caesars-at-kelseys-original-roadhouse-redhill/2028-11-26/
LOCATION:Kelsey’s Original Roadhouse – Redhill\, 821 Paramount Drive\, Hamilton\, ON\, L8J 2L6\, Canada
CATEGORIES:Restaurant Promotion
ATTACH;FMTTYPE=image/webp:https://steelcitymagazine.ca/wp-content/uploads/2025/05/5-Caesars-Kelseys-Original-Roadhouse.webp
END:VEVENT
BEGIN:VEVENT
DTSTART;TZID=America/Toronto:20281203T110000
DTEND;TZID=America/Toronto:20281203T230000
DTSTAMP:20260423T135116
CREATED:20250526T201827Z
LAST-MODIFIED:20250526T201827Z
UID:10000188-1859454000-1859497200@steelcitymagazine.ca
SUMMARY:$5 Caesars at Kelsey's Original Roadhouse Redhill
DESCRIPTION:Enjoy $5 Caesars all day Sunday at Kelsey’s Original Roadhouse Redhill. You can even Kick It Up to a double for $8! \nAvailable all day\, every Sunday. \n  \n 
URL:https://steelcitymagazine.ca/event/5-caesars-at-kelseys-original-roadhouse-redhill/2028-12-03/
LOCATION:Kelsey’s Original Roadhouse – Redhill\, 821 Paramount Drive\, Hamilton\, ON\, L8J 2L6\, Canada
CATEGORIES:Restaurant Promotion
ATTACH;FMTTYPE=image/webp:https://steelcitymagazine.ca/wp-content/uploads/2025/05/5-Caesars-Kelseys-Original-Roadhouse.webp
END:VEVENT
BEGIN:VEVENT
DTSTART;TZID=America/Toronto:20281210T110000
DTEND;TZID=America/Toronto:20281210T230000
DTSTAMP:20260423T135116
CREATED:20250526T201827Z
LAST-MODIFIED:20250526T201827Z
UID:10000189-1860058800-1860102000@steelcitymagazine.ca
SUMMARY:$5 Caesars at Kelsey's Original Roadhouse Redhill
DESCRIPTION:Enjoy $5 Caesars all day Sunday at Kelsey’s Original Roadhouse Redhill. You can even Kick It Up to a double for $8! \nAvailable all day\, every Sunday. \n  \n 
URL:https://steelcitymagazine.ca/event/5-caesars-at-kelseys-original-roadhouse-redhill/2028-12-10/
LOCATION:Kelsey’s Original Roadhouse – Redhill\, 821 Paramount Drive\, Hamilton\, ON\, L8J 2L6\, Canada
CATEGORIES:Restaurant Promotion
ATTACH;FMTTYPE=image/webp:https://steelcitymagazine.ca/wp-content/uploads/2025/05/5-Caesars-Kelseys-Original-Roadhouse.webp
END:VEVENT
BEGIN:VEVENT
DTSTART;TZID=America/Toronto:20281217T110000
DTEND;TZID=America/Toronto:20281217T230000
DTSTAMP:20260423T135116
CREATED:20250526T201827Z
LAST-MODIFIED:20250526T201827Z
UID:10000190-1860663600-1860706800@steelcitymagazine.ca
SUMMARY:$5 Caesars at Kelsey's Original Roadhouse Redhill
DESCRIPTION:Enjoy $5 Caesars all day Sunday at Kelsey’s Original Roadhouse Redhill. You can even Kick It Up to a double for $8! \nAvailable all day\, every Sunday. \n  \n 
URL:https://steelcitymagazine.ca/event/5-caesars-at-kelseys-original-roadhouse-redhill/2028-12-17/
LOCATION:Kelsey’s Original Roadhouse – Redhill\, 821 Paramount Drive\, Hamilton\, ON\, L8J 2L6\, Canada
CATEGORIES:Restaurant Promotion
ATTACH;FMTTYPE=image/webp:https://steelcitymagazine.ca/wp-content/uploads/2025/05/5-Caesars-Kelseys-Original-Roadhouse.webp
END:VEVENT
BEGIN:VEVENT
DTSTART;TZID=America/Toronto:20281224T110000
DTEND;TZID=America/Toronto:20281224T230000
DTSTAMP:20260423T135116
CREATED:20250526T201827Z
LAST-MODIFIED:20250526T201827Z
UID:10000191-1861268400-1861311600@steelcitymagazine.ca
SUMMARY:$5 Caesars at Kelsey's Original Roadhouse Redhill
DESCRIPTION:Enjoy $5 Caesars all day Sunday at Kelsey’s Original Roadhouse Redhill. You can even Kick It Up to a double for $8! \nAvailable all day\, every Sunday. \n  \n 
URL:https://steelcitymagazine.ca/event/5-caesars-at-kelseys-original-roadhouse-redhill/2028-12-24/
LOCATION:Kelsey’s Original Roadhouse – Redhill\, 821 Paramount Drive\, Hamilton\, ON\, L8J 2L6\, Canada
CATEGORIES:Restaurant Promotion
ATTACH;FMTTYPE=image/webp:https://steelcitymagazine.ca/wp-content/uploads/2025/05/5-Caesars-Kelseys-Original-Roadhouse.webp
END:VEVENT
BEGIN:VEVENT
DTSTART;TZID=America/Toronto:20281231T110000
DTEND;TZID=America/Toronto:20281231T230000
DTSTAMP:20260423T135116
CREATED:20250526T201827Z
LAST-MODIFIED:20250526T201827Z
UID:10000192-1861873200-1861916400@steelcitymagazine.ca
SUMMARY:$5 Caesars at Kelsey's Original Roadhouse Redhill
DESCRIPTION:Enjoy $5 Caesars all day Sunday at Kelsey’s Original Roadhouse Redhill. You can even Kick It Up to a double for $8! \nAvailable all day\, every Sunday. \n  \n 
URL:https://steelcitymagazine.ca/event/5-caesars-at-kelseys-original-roadhouse-redhill/2028-12-31/
LOCATION:Kelsey’s Original Roadhouse – Redhill\, 821 Paramount Drive\, Hamilton\, ON\, L8J 2L6\, Canada
CATEGORIES:Restaurant Promotion
ATTACH;FMTTYPE=image/webp:https://steelcitymagazine.ca/wp-content/uploads/2025/05/5-Caesars-Kelseys-Original-Roadhouse.webp
END:VEVENT
BEGIN:VEVENT
DTSTART;TZID=America/Toronto:20290107T110000
DTEND;TZID=America/Toronto:20290107T230000
DTSTAMP:20260423T135116
CREATED:20250526T201827Z
LAST-MODIFIED:20250526T201827Z
UID:10000193-1862478000-1862521200@steelcitymagazine.ca
SUMMARY:$5 Caesars at Kelsey's Original Roadhouse Redhill
DESCRIPTION:Enjoy $5 Caesars all day Sunday at Kelsey’s Original Roadhouse Redhill. You can even Kick It Up to a double for $8! \nAvailable all day\, every Sunday. \n  \n 
URL:https://steelcitymagazine.ca/event/5-caesars-at-kelseys-original-roadhouse-redhill/2029-01-07/
LOCATION:Kelsey’s Original Roadhouse – Redhill\, 821 Paramount Drive\, Hamilton\, ON\, L8J 2L6\, Canada
CATEGORIES:Restaurant Promotion
ATTACH;FMTTYPE=image/webp:https://steelcitymagazine.ca/wp-content/uploads/2025/05/5-Caesars-Kelseys-Original-Roadhouse.webp
END:VEVENT
BEGIN:VEVENT
DTSTART;TZID=America/Toronto:20290114T110000
DTEND;TZID=America/Toronto:20290114T230000
DTSTAMP:20260423T135116
CREATED:20250526T201827Z
LAST-MODIFIED:20250526T201827Z
UID:10000194-1863082800-1863126000@steelcitymagazine.ca
SUMMARY:$5 Caesars at Kelsey's Original Roadhouse Redhill
DESCRIPTION:Enjoy $5 Caesars all day Sunday at Kelsey’s Original Roadhouse Redhill. You can even Kick It Up to a double for $8! \nAvailable all day\, every Sunday. \n  \n 
URL:https://steelcitymagazine.ca/event/5-caesars-at-kelseys-original-roadhouse-redhill/2029-01-14/
LOCATION:Kelsey’s Original Roadhouse – Redhill\, 821 Paramount Drive\, Hamilton\, ON\, L8J 2L6\, Canada
CATEGORIES:Restaurant Promotion
ATTACH;FMTTYPE=image/webp:https://steelcitymagazine.ca/wp-content/uploads/2025/05/5-Caesars-Kelseys-Original-Roadhouse.webp
END:VEVENT
BEGIN:VEVENT
DTSTART;TZID=America/Toronto:20290121T110000
DTEND;TZID=America/Toronto:20290121T230000
DTSTAMP:20260423T135116
CREATED:20250526T201827Z
LAST-MODIFIED:20250526T201827Z
UID:10000195-1863687600-1863730800@steelcitymagazine.ca
SUMMARY:$5 Caesars at Kelsey's Original Roadhouse Redhill
DESCRIPTION:Enjoy $5 Caesars all day Sunday at Kelsey’s Original Roadhouse Redhill. You can even Kick It Up to a double for $8! \nAvailable all day\, every Sunday. \n  \n 
URL:https://steelcitymagazine.ca/event/5-caesars-at-kelseys-original-roadhouse-redhill/2029-01-21/
LOCATION:Kelsey’s Original Roadhouse – Redhill\, 821 Paramount Drive\, Hamilton\, ON\, L8J 2L6\, Canada
CATEGORIES:Restaurant Promotion
ATTACH;FMTTYPE=image/webp:https://steelcitymagazine.ca/wp-content/uploads/2025/05/5-Caesars-Kelseys-Original-Roadhouse.webp
END:VEVENT
BEGIN:VEVENT
DTSTART;TZID=America/Toronto:20290128T110000
DTEND;TZID=America/Toronto:20290128T230000
DTSTAMP:20260423T135116
CREATED:20250526T201827Z
LAST-MODIFIED:20250526T201827Z
UID:10000196-1864292400-1864335600@steelcitymagazine.ca
SUMMARY:$5 Caesars at Kelsey's Original Roadhouse Redhill
DESCRIPTION:Enjoy $5 Caesars all day Sunday at Kelsey’s Original Roadhouse Redhill. You can even Kick It Up to a double for $8! \nAvailable all day\, every Sunday. \n  \n 
URL:https://steelcitymagazine.ca/event/5-caesars-at-kelseys-original-roadhouse-redhill/2029-01-28/
LOCATION:Kelsey’s Original Roadhouse – Redhill\, 821 Paramount Drive\, Hamilton\, ON\, L8J 2L6\, Canada
CATEGORIES:Restaurant Promotion
ATTACH;FMTTYPE=image/webp:https://steelcitymagazine.ca/wp-content/uploads/2025/05/5-Caesars-Kelseys-Original-Roadhouse.webp
END:VEVENT
BEGIN:VEVENT
DTSTART;TZID=America/Toronto:20290204T110000
DTEND;TZID=America/Toronto:20290204T230000
DTSTAMP:20260423T135116
CREATED:20250526T201827Z
LAST-MODIFIED:20250526T201827Z
UID:10000197-1864897200-1864940400@steelcitymagazine.ca
SUMMARY:$5 Caesars at Kelsey's Original Roadhouse Redhill
DESCRIPTION:Enjoy $5 Caesars all day Sunday at Kelsey’s Original Roadhouse Redhill. You can even Kick It Up to a double for $8! \nAvailable all day\, every Sunday. \n  \n 
URL:https://steelcitymagazine.ca/event/5-caesars-at-kelseys-original-roadhouse-redhill/2029-02-04/
LOCATION:Kelsey’s Original Roadhouse – Redhill\, 821 Paramount Drive\, Hamilton\, ON\, L8J 2L6\, Canada
CATEGORIES:Restaurant Promotion
ATTACH;FMTTYPE=image/webp:https://steelcitymagazine.ca/wp-content/uploads/2025/05/5-Caesars-Kelseys-Original-Roadhouse.webp
END:VEVENT
BEGIN:VEVENT
DTSTART;TZID=America/Toronto:20290211T110000
DTEND;TZID=America/Toronto:20290211T230000
DTSTAMP:20260423T135116
CREATED:20250526T201827Z
LAST-MODIFIED:20250526T201827Z
UID:10000198-1865502000-1865545200@steelcitymagazine.ca
SUMMARY:$5 Caesars at Kelsey's Original Roadhouse Redhill
DESCRIPTION:Enjoy $5 Caesars all day Sunday at Kelsey’s Original Roadhouse Redhill. You can even Kick It Up to a double for $8! \nAvailable all day\, every Sunday. \n  \n 
URL:https://steelcitymagazine.ca/event/5-caesars-at-kelseys-original-roadhouse-redhill/2029-02-11/
LOCATION:Kelsey’s Original Roadhouse – Redhill\, 821 Paramount Drive\, Hamilton\, ON\, L8J 2L6\, Canada
CATEGORIES:Restaurant Promotion
ATTACH;FMTTYPE=image/webp:https://steelcitymagazine.ca/wp-content/uploads/2025/05/5-Caesars-Kelseys-Original-Roadhouse.webp
END:VEVENT
BEGIN:VEVENT
DTSTART;TZID=America/Toronto:20290218T110000
DTEND;TZID=America/Toronto:20290218T230000
DTSTAMP:20260423T135116
CREATED:20250526T201827Z
LAST-MODIFIED:20250526T201827Z
UID:10000199-1866106800-1866150000@steelcitymagazine.ca
SUMMARY:$5 Caesars at Kelsey's Original Roadhouse Redhill
DESCRIPTION:Enjoy $5 Caesars all day Sunday at Kelsey’s Original Roadhouse Redhill. You can even Kick It Up to a double for $8! \nAvailable all day\, every Sunday. \n  \n 
URL:https://steelcitymagazine.ca/event/5-caesars-at-kelseys-original-roadhouse-redhill/2029-02-18/
LOCATION:Kelsey’s Original Roadhouse – Redhill\, 821 Paramount Drive\, Hamilton\, ON\, L8J 2L6\, Canada
CATEGORIES:Restaurant Promotion
ATTACH;FMTTYPE=image/webp:https://steelcitymagazine.ca/wp-content/uploads/2025/05/5-Caesars-Kelseys-Original-Roadhouse.webp
END:VEVENT
BEGIN:VEVENT
DTSTART;TZID=America/Toronto:20290225T110000
DTEND;TZID=America/Toronto:20290225T230000
DTSTAMP:20260423T135116
CREATED:20250526T201827Z
LAST-MODIFIED:20250526T201827Z
UID:10000200-1866711600-1866754800@steelcitymagazine.ca
SUMMARY:$5 Caesars at Kelsey's Original Roadhouse Redhill
DESCRIPTION:Enjoy $5 Caesars all day Sunday at Kelsey’s Original Roadhouse Redhill. You can even Kick It Up to a double for $8! \nAvailable all day\, every Sunday. \n  \n 
URL:https://steelcitymagazine.ca/event/5-caesars-at-kelseys-original-roadhouse-redhill/2029-02-25/
LOCATION:Kelsey’s Original Roadhouse – Redhill\, 821 Paramount Drive\, Hamilton\, ON\, L8J 2L6\, Canada
CATEGORIES:Restaurant Promotion
ATTACH;FMTTYPE=image/webp:https://steelcitymagazine.ca/wp-content/uploads/2025/05/5-Caesars-Kelseys-Original-Roadhouse.webp
END:VEVENT
BEGIN:VEVENT
DTSTART;TZID=America/Toronto:20290304T110000
DTEND;TZID=America/Toronto:20290304T230000
DTSTAMP:20260423T135116
CREATED:20250526T201827Z
LAST-MODIFIED:20250526T201827Z
UID:10000201-1867316400-1867359600@steelcitymagazine.ca
SUMMARY:$5 Caesars at Kelsey's Original Roadhouse Redhill
DESCRIPTION:Enjoy $5 Caesars all day Sunday at Kelsey’s Original Roadhouse Redhill. You can even Kick It Up to a double for $8! \nAvailable all day\, every Sunday. \n  \n 
URL:https://steelcitymagazine.ca/event/5-caesars-at-kelseys-original-roadhouse-redhill/2029-03-04/
LOCATION:Kelsey’s Original Roadhouse – Redhill\, 821 Paramount Drive\, Hamilton\, ON\, L8J 2L6\, Canada
CATEGORIES:Restaurant Promotion
ATTACH;FMTTYPE=image/webp:https://steelcitymagazine.ca/wp-content/uploads/2025/05/5-Caesars-Kelseys-Original-Roadhouse.webp
END:VEVENT
END:VCALENDAR