BEGIN:VCALENDAR
VERSION:2.0
PRODID:-//Steel City Magazine - ECPv6.13.1//NONSGML v1.0//EN
CALSCALE:GREGORIAN
METHOD:PUBLISH
X-WR-CALNAME:Steel City Magazine
X-ORIGINAL-URL:https://steelcitymagazine.ca
X-WR-CALDESC:Events for Steel City Magazine
REFRESH-INTERVAL;VALUE=DURATION:PT1H
X-Robots-Tag:noindex
X-PUBLISHED-TTL:PT1H
BEGIN:VTIMEZONE
TZID:America/Toronto
BEGIN:DAYLIGHT
TZOFFSETFROM:-0500
TZOFFSETTO:-0400
TZNAME:EDT
DTSTART:20300310T070000
END:DAYLIGHT
BEGIN:STANDARD
TZOFFSETFROM:-0400
TZOFFSETTO:-0500
TZNAME:EST
DTSTART:20301103T060000
END:STANDARD
END:VTIMEZONE
BEGIN:VEVENT
DTSTART;TZID=America/Toronto:20300321T110000
DTEND;TZID=America/Toronto:20300325T000000
DTSTAMP:20260421T065709
CREATED:20250526T203629Z
LAST-MODIFIED:20250526T203629Z
UID:10000517-1900321200-1900627200@steelcitymagazine.ca
SUMMARY:Half Price Wings & Bites at Kelseys Original Roadhouse Redhill
DESCRIPTION:Enjoy half price chicken wings and bites all day Thursday at Kelsey’s Original Roadhouse. Choose from a variety of wing sauces and dry rubs\, breaded and non-breaded wings\, served with your choice of Kelsey’s side. \nHalf price wings and bites available with the purchase of a beverage. Ask your server for more details. \nYou can also enjoy Dinner for 2 for $55 including: 2 pints of Coors Lite or Coors Original\, the famous Four Cheese Spinach Dip\, and 20 wings made your way. \nSeating is limited\, be sure to reserve your table today!
URL:https://steelcitymagazine.ca/event/half-price-wings-bites-at-kelseys-original-roadhouse-redhill/2030-03-21/
LOCATION:Kelsey’s Original Roadhouse – Redhill\, 821 Paramount Drive\, Hamilton\, ON\, L8J 2L6\, Canada
CATEGORIES:Restaurant Promotion
ATTACH;FMTTYPE=image/webp:https://steelcitymagazine.ca/wp-content/uploads/2025/05/half-price-wings-kelseys-copy.webp
END:VEVENT
BEGIN:VEVENT
DTSTART;TZID=America/Toronto:20300324T110000
DTEND;TZID=America/Toronto:20300324T230000
DTSTAMP:20260421T065709
CREATED:20250526T201827Z
LAST-MODIFIED:20250526T201827Z
UID:10000256-1900580400-1900623600@steelcitymagazine.ca
SUMMARY:$5 Caesars at Kelsey's Original Roadhouse Redhill
DESCRIPTION:Enjoy $5 Caesars all day Sunday at Kelsey’s Original Roadhouse Redhill. You can even Kick It Up to a double for $8! \nAvailable all day\, every Sunday. \n  \n 
URL:https://steelcitymagazine.ca/event/5-caesars-at-kelseys-original-roadhouse-redhill/2030-03-24/
LOCATION:Kelsey’s Original Roadhouse – Redhill\, 821 Paramount Drive\, Hamilton\, ON\, L8J 2L6\, Canada
CATEGORIES:Restaurant Promotion
ATTACH;FMTTYPE=image/webp:https://steelcitymagazine.ca/wp-content/uploads/2025/05/5-Caesars-Kelseys-Original-Roadhouse.webp
END:VEVENT
BEGIN:VEVENT
DTSTART;TZID=America/Toronto:20300328T110000
DTEND;TZID=America/Toronto:20300401T000000
DTSTAMP:20260421T065709
CREATED:20250526T203629Z
LAST-MODIFIED:20250526T203629Z
UID:10000518-1900926000-1901232000@steelcitymagazine.ca
SUMMARY:Half Price Wings & Bites at Kelseys Original Roadhouse Redhill
DESCRIPTION:Enjoy half price chicken wings and bites all day Thursday at Kelsey’s Original Roadhouse. Choose from a variety of wing sauces and dry rubs\, breaded and non-breaded wings\, served with your choice of Kelsey’s side. \nHalf price wings and bites available with the purchase of a beverage. Ask your server for more details. \nYou can also enjoy Dinner for 2 for $55 including: 2 pints of Coors Lite or Coors Original\, the famous Four Cheese Spinach Dip\, and 20 wings made your way. \nSeating is limited\, be sure to reserve your table today!
URL:https://steelcitymagazine.ca/event/half-price-wings-bites-at-kelseys-original-roadhouse-redhill/2030-03-28/
LOCATION:Kelsey’s Original Roadhouse – Redhill\, 821 Paramount Drive\, Hamilton\, ON\, L8J 2L6\, Canada
CATEGORIES:Restaurant Promotion
ATTACH;FMTTYPE=image/webp:https://steelcitymagazine.ca/wp-content/uploads/2025/05/half-price-wings-kelseys-copy.webp
END:VEVENT
BEGIN:VEVENT
DTSTART;TZID=America/Toronto:20300331T110000
DTEND;TZID=America/Toronto:20300331T230000
DTSTAMP:20260421T065709
CREATED:20250526T201827Z
LAST-MODIFIED:20250526T201827Z
UID:10000257-1901185200-1901228400@steelcitymagazine.ca
SUMMARY:$5 Caesars at Kelsey's Original Roadhouse Redhill
DESCRIPTION:Enjoy $5 Caesars all day Sunday at Kelsey’s Original Roadhouse Redhill. You can even Kick It Up to a double for $8! \nAvailable all day\, every Sunday. \n  \n 
URL:https://steelcitymagazine.ca/event/5-caesars-at-kelseys-original-roadhouse-redhill/2030-03-31/
LOCATION:Kelsey’s Original Roadhouse – Redhill\, 821 Paramount Drive\, Hamilton\, ON\, L8J 2L6\, Canada
CATEGORIES:Restaurant Promotion
ATTACH;FMTTYPE=image/webp:https://steelcitymagazine.ca/wp-content/uploads/2025/05/5-Caesars-Kelseys-Original-Roadhouse.webp
END:VEVENT
BEGIN:VEVENT
DTSTART;TZID=America/Toronto:20300404T110000
DTEND;TZID=America/Toronto:20300408T000000
DTSTAMP:20260421T065709
CREATED:20250526T203629Z
LAST-MODIFIED:20250526T203629Z
UID:10000519-1901530800-1901836800@steelcitymagazine.ca
SUMMARY:Half Price Wings & Bites at Kelseys Original Roadhouse Redhill
DESCRIPTION:Enjoy half price chicken wings and bites all day Thursday at Kelsey’s Original Roadhouse. Choose from a variety of wing sauces and dry rubs\, breaded and non-breaded wings\, served with your choice of Kelsey’s side. \nHalf price wings and bites available with the purchase of a beverage. Ask your server for more details. \nYou can also enjoy Dinner for 2 for $55 including: 2 pints of Coors Lite or Coors Original\, the famous Four Cheese Spinach Dip\, and 20 wings made your way. \nSeating is limited\, be sure to reserve your table today!
URL:https://steelcitymagazine.ca/event/half-price-wings-bites-at-kelseys-original-roadhouse-redhill/2030-04-04/
LOCATION:Kelsey’s Original Roadhouse – Redhill\, 821 Paramount Drive\, Hamilton\, ON\, L8J 2L6\, Canada
CATEGORIES:Restaurant Promotion
ATTACH;FMTTYPE=image/webp:https://steelcitymagazine.ca/wp-content/uploads/2025/05/half-price-wings-kelseys-copy.webp
END:VEVENT
BEGIN:VEVENT
DTSTART;TZID=America/Toronto:20300407T110000
DTEND;TZID=America/Toronto:20300407T230000
DTSTAMP:20260421T065709
CREATED:20250526T201827Z
LAST-MODIFIED:20250526T201827Z
UID:10000258-1901790000-1901833200@steelcitymagazine.ca
SUMMARY:$5 Caesars at Kelsey's Original Roadhouse Redhill
DESCRIPTION:Enjoy $5 Caesars all day Sunday at Kelsey’s Original Roadhouse Redhill. You can even Kick It Up to a double for $8! \nAvailable all day\, every Sunday. \n  \n 
URL:https://steelcitymagazine.ca/event/5-caesars-at-kelseys-original-roadhouse-redhill/2030-04-07/
LOCATION:Kelsey’s Original Roadhouse – Redhill\, 821 Paramount Drive\, Hamilton\, ON\, L8J 2L6\, Canada
CATEGORIES:Restaurant Promotion
ATTACH;FMTTYPE=image/webp:https://steelcitymagazine.ca/wp-content/uploads/2025/05/5-Caesars-Kelseys-Original-Roadhouse.webp
END:VEVENT
BEGIN:VEVENT
DTSTART;TZID=America/Toronto:20300411T110000
DTEND;TZID=America/Toronto:20300415T000000
DTSTAMP:20260421T065709
CREATED:20250526T203629Z
LAST-MODIFIED:20250526T203629Z
UID:10000520-1902135600-1902441600@steelcitymagazine.ca
SUMMARY:Half Price Wings & Bites at Kelseys Original Roadhouse Redhill
DESCRIPTION:Enjoy half price chicken wings and bites all day Thursday at Kelsey’s Original Roadhouse. Choose from a variety of wing sauces and dry rubs\, breaded and non-breaded wings\, served with your choice of Kelsey’s side. \nHalf price wings and bites available with the purchase of a beverage. Ask your server for more details. \nYou can also enjoy Dinner for 2 for $55 including: 2 pints of Coors Lite or Coors Original\, the famous Four Cheese Spinach Dip\, and 20 wings made your way. \nSeating is limited\, be sure to reserve your table today!
URL:https://steelcitymagazine.ca/event/half-price-wings-bites-at-kelseys-original-roadhouse-redhill/2030-04-11/
LOCATION:Kelsey’s Original Roadhouse – Redhill\, 821 Paramount Drive\, Hamilton\, ON\, L8J 2L6\, Canada
CATEGORIES:Restaurant Promotion
ATTACH;FMTTYPE=image/webp:https://steelcitymagazine.ca/wp-content/uploads/2025/05/half-price-wings-kelseys-copy.webp
END:VEVENT
BEGIN:VEVENT
DTSTART;TZID=America/Toronto:20300414T110000
DTEND;TZID=America/Toronto:20300414T230000
DTSTAMP:20260421T065709
CREATED:20250526T201827Z
LAST-MODIFIED:20250526T201827Z
UID:10000259-1902394800-1902438000@steelcitymagazine.ca
SUMMARY:$5 Caesars at Kelsey's Original Roadhouse Redhill
DESCRIPTION:Enjoy $5 Caesars all day Sunday at Kelsey’s Original Roadhouse Redhill. You can even Kick It Up to a double for $8! \nAvailable all day\, every Sunday. \n  \n 
URL:https://steelcitymagazine.ca/event/5-caesars-at-kelseys-original-roadhouse-redhill/2030-04-14/
LOCATION:Kelsey’s Original Roadhouse – Redhill\, 821 Paramount Drive\, Hamilton\, ON\, L8J 2L6\, Canada
CATEGORIES:Restaurant Promotion
ATTACH;FMTTYPE=image/webp:https://steelcitymagazine.ca/wp-content/uploads/2025/05/5-Caesars-Kelseys-Original-Roadhouse.webp
END:VEVENT
BEGIN:VEVENT
DTSTART;TZID=America/Toronto:20300418T110000
DTEND;TZID=America/Toronto:20300422T000000
DTSTAMP:20260421T065709
CREATED:20250526T203629Z
LAST-MODIFIED:20250526T203629Z
UID:10000521-1902740400-1903046400@steelcitymagazine.ca
SUMMARY:Half Price Wings & Bites at Kelseys Original Roadhouse Redhill
DESCRIPTION:Enjoy half price chicken wings and bites all day Thursday at Kelsey’s Original Roadhouse. Choose from a variety of wing sauces and dry rubs\, breaded and non-breaded wings\, served with your choice of Kelsey’s side. \nHalf price wings and bites available with the purchase of a beverage. Ask your server for more details. \nYou can also enjoy Dinner for 2 for $55 including: 2 pints of Coors Lite or Coors Original\, the famous Four Cheese Spinach Dip\, and 20 wings made your way. \nSeating is limited\, be sure to reserve your table today!
URL:https://steelcitymagazine.ca/event/half-price-wings-bites-at-kelseys-original-roadhouse-redhill/2030-04-18/
LOCATION:Kelsey’s Original Roadhouse – Redhill\, 821 Paramount Drive\, Hamilton\, ON\, L8J 2L6\, Canada
CATEGORIES:Restaurant Promotion
ATTACH;FMTTYPE=image/webp:https://steelcitymagazine.ca/wp-content/uploads/2025/05/half-price-wings-kelseys-copy.webp
END:VEVENT
BEGIN:VEVENT
DTSTART;TZID=America/Toronto:20300421T110000
DTEND;TZID=America/Toronto:20300421T230000
DTSTAMP:20260421T065709
CREATED:20250526T201827Z
LAST-MODIFIED:20250526T201827Z
UID:10000260-1902999600-1903042800@steelcitymagazine.ca
SUMMARY:$5 Caesars at Kelsey's Original Roadhouse Redhill
DESCRIPTION:Enjoy $5 Caesars all day Sunday at Kelsey’s Original Roadhouse Redhill. You can even Kick It Up to a double for $8! \nAvailable all day\, every Sunday. \n  \n 
URL:https://steelcitymagazine.ca/event/5-caesars-at-kelseys-original-roadhouse-redhill/2030-04-21/
LOCATION:Kelsey’s Original Roadhouse – Redhill\, 821 Paramount Drive\, Hamilton\, ON\, L8J 2L6\, Canada
CATEGORIES:Restaurant Promotion
ATTACH;FMTTYPE=image/webp:https://steelcitymagazine.ca/wp-content/uploads/2025/05/5-Caesars-Kelseys-Original-Roadhouse.webp
END:VEVENT
BEGIN:VEVENT
DTSTART;TZID=America/Toronto:20300425T110000
DTEND;TZID=America/Toronto:20300429T000000
DTSTAMP:20260421T065709
CREATED:20250526T203629Z
LAST-MODIFIED:20250526T203629Z
UID:10000522-1903345200-1903651200@steelcitymagazine.ca
SUMMARY:Half Price Wings & Bites at Kelseys Original Roadhouse Redhill
DESCRIPTION:Enjoy half price chicken wings and bites all day Thursday at Kelsey’s Original Roadhouse. Choose from a variety of wing sauces and dry rubs\, breaded and non-breaded wings\, served with your choice of Kelsey’s side. \nHalf price wings and bites available with the purchase of a beverage. Ask your server for more details. \nYou can also enjoy Dinner for 2 for $55 including: 2 pints of Coors Lite or Coors Original\, the famous Four Cheese Spinach Dip\, and 20 wings made your way. \nSeating is limited\, be sure to reserve your table today!
URL:https://steelcitymagazine.ca/event/half-price-wings-bites-at-kelseys-original-roadhouse-redhill/2030-04-25/
LOCATION:Kelsey’s Original Roadhouse – Redhill\, 821 Paramount Drive\, Hamilton\, ON\, L8J 2L6\, Canada
CATEGORIES:Restaurant Promotion
ATTACH;FMTTYPE=image/webp:https://steelcitymagazine.ca/wp-content/uploads/2025/05/half-price-wings-kelseys-copy.webp
END:VEVENT
BEGIN:VEVENT
DTSTART;TZID=America/Toronto:20300428T110000
DTEND;TZID=America/Toronto:20300428T230000
DTSTAMP:20260421T065709
CREATED:20250526T201827Z
LAST-MODIFIED:20250526T201827Z
UID:10000261-1903604400-1903647600@steelcitymagazine.ca
SUMMARY:$5 Caesars at Kelsey's Original Roadhouse Redhill
DESCRIPTION:Enjoy $5 Caesars all day Sunday at Kelsey’s Original Roadhouse Redhill. You can even Kick It Up to a double for $8! \nAvailable all day\, every Sunday. \n  \n 
URL:https://steelcitymagazine.ca/event/5-caesars-at-kelseys-original-roadhouse-redhill/2030-04-28/
LOCATION:Kelsey’s Original Roadhouse – Redhill\, 821 Paramount Drive\, Hamilton\, ON\, L8J 2L6\, Canada
CATEGORIES:Restaurant Promotion
ATTACH;FMTTYPE=image/webp:https://steelcitymagazine.ca/wp-content/uploads/2025/05/5-Caesars-Kelseys-Original-Roadhouse.webp
END:VEVENT
BEGIN:VEVENT
DTSTART;TZID=America/Toronto:20300502T110000
DTEND;TZID=America/Toronto:20300506T000000
DTSTAMP:20260421T065709
CREATED:20250526T203629Z
LAST-MODIFIED:20250526T203629Z
UID:10000523-1903950000-1904256000@steelcitymagazine.ca
SUMMARY:Half Price Wings & Bites at Kelseys Original Roadhouse Redhill
DESCRIPTION:Enjoy half price chicken wings and bites all day Thursday at Kelsey’s Original Roadhouse. Choose from a variety of wing sauces and dry rubs\, breaded and non-breaded wings\, served with your choice of Kelsey’s side. \nHalf price wings and bites available with the purchase of a beverage. Ask your server for more details. \nYou can also enjoy Dinner for 2 for $55 including: 2 pints of Coors Lite or Coors Original\, the famous Four Cheese Spinach Dip\, and 20 wings made your way. \nSeating is limited\, be sure to reserve your table today!
URL:https://steelcitymagazine.ca/event/half-price-wings-bites-at-kelseys-original-roadhouse-redhill/2030-05-02/
LOCATION:Kelsey’s Original Roadhouse – Redhill\, 821 Paramount Drive\, Hamilton\, ON\, L8J 2L6\, Canada
CATEGORIES:Restaurant Promotion
ATTACH;FMTTYPE=image/webp:https://steelcitymagazine.ca/wp-content/uploads/2025/05/half-price-wings-kelseys-copy.webp
END:VEVENT
BEGIN:VEVENT
DTSTART;TZID=America/Toronto:20300505T110000
DTEND;TZID=America/Toronto:20300505T230000
DTSTAMP:20260421T065709
CREATED:20250526T201827Z
LAST-MODIFIED:20250526T201827Z
UID:10000262-1904209200-1904252400@steelcitymagazine.ca
SUMMARY:$5 Caesars at Kelsey's Original Roadhouse Redhill
DESCRIPTION:Enjoy $5 Caesars all day Sunday at Kelsey’s Original Roadhouse Redhill. You can even Kick It Up to a double for $8! \nAvailable all day\, every Sunday. \n  \n 
URL:https://steelcitymagazine.ca/event/5-caesars-at-kelseys-original-roadhouse-redhill/2030-05-05/
LOCATION:Kelsey’s Original Roadhouse – Redhill\, 821 Paramount Drive\, Hamilton\, ON\, L8J 2L6\, Canada
CATEGORIES:Restaurant Promotion
ATTACH;FMTTYPE=image/webp:https://steelcitymagazine.ca/wp-content/uploads/2025/05/5-Caesars-Kelseys-Original-Roadhouse.webp
END:VEVENT
BEGIN:VEVENT
DTSTART;TZID=America/Toronto:20300509T110000
DTEND;TZID=America/Toronto:20300513T000000
DTSTAMP:20260421T065709
CREATED:20250526T203629Z
LAST-MODIFIED:20250526T203629Z
UID:10000524-1904554800-1904860800@steelcitymagazine.ca
SUMMARY:Half Price Wings & Bites at Kelseys Original Roadhouse Redhill
DESCRIPTION:Enjoy half price chicken wings and bites all day Thursday at Kelsey’s Original Roadhouse. Choose from a variety of wing sauces and dry rubs\, breaded and non-breaded wings\, served with your choice of Kelsey’s side. \nHalf price wings and bites available with the purchase of a beverage. Ask your server for more details. \nYou can also enjoy Dinner for 2 for $55 including: 2 pints of Coors Lite or Coors Original\, the famous Four Cheese Spinach Dip\, and 20 wings made your way. \nSeating is limited\, be sure to reserve your table today!
URL:https://steelcitymagazine.ca/event/half-price-wings-bites-at-kelseys-original-roadhouse-redhill/2030-05-09/
LOCATION:Kelsey’s Original Roadhouse – Redhill\, 821 Paramount Drive\, Hamilton\, ON\, L8J 2L6\, Canada
CATEGORIES:Restaurant Promotion
ATTACH;FMTTYPE=image/webp:https://steelcitymagazine.ca/wp-content/uploads/2025/05/half-price-wings-kelseys-copy.webp
END:VEVENT
BEGIN:VEVENT
DTSTART;TZID=America/Toronto:20300512T110000
DTEND;TZID=America/Toronto:20300512T230000
DTSTAMP:20260421T065709
CREATED:20250526T201827Z
LAST-MODIFIED:20250526T201827Z
UID:10000263-1904814000-1904857200@steelcitymagazine.ca
SUMMARY:$5 Caesars at Kelsey's Original Roadhouse Redhill
DESCRIPTION:Enjoy $5 Caesars all day Sunday at Kelsey’s Original Roadhouse Redhill. You can even Kick It Up to a double for $8! \nAvailable all day\, every Sunday. \n  \n 
URL:https://steelcitymagazine.ca/event/5-caesars-at-kelseys-original-roadhouse-redhill/2030-05-12/
LOCATION:Kelsey’s Original Roadhouse – Redhill\, 821 Paramount Drive\, Hamilton\, ON\, L8J 2L6\, Canada
CATEGORIES:Restaurant Promotion
ATTACH;FMTTYPE=image/webp:https://steelcitymagazine.ca/wp-content/uploads/2025/05/5-Caesars-Kelseys-Original-Roadhouse.webp
END:VEVENT
BEGIN:VEVENT
DTSTART;TZID=America/Toronto:20300516T110000
DTEND;TZID=America/Toronto:20300520T000000
DTSTAMP:20260421T065709
CREATED:20250526T203629Z
LAST-MODIFIED:20250526T203629Z
UID:10000525-1905159600-1905465600@steelcitymagazine.ca
SUMMARY:Half Price Wings & Bites at Kelseys Original Roadhouse Redhill
DESCRIPTION:Enjoy half price chicken wings and bites all day Thursday at Kelsey’s Original Roadhouse. Choose from a variety of wing sauces and dry rubs\, breaded and non-breaded wings\, served with your choice of Kelsey’s side. \nHalf price wings and bites available with the purchase of a beverage. Ask your server for more details. \nYou can also enjoy Dinner for 2 for $55 including: 2 pints of Coors Lite or Coors Original\, the famous Four Cheese Spinach Dip\, and 20 wings made your way. \nSeating is limited\, be sure to reserve your table today!
URL:https://steelcitymagazine.ca/event/half-price-wings-bites-at-kelseys-original-roadhouse-redhill/2030-05-16/
LOCATION:Kelsey’s Original Roadhouse – Redhill\, 821 Paramount Drive\, Hamilton\, ON\, L8J 2L6\, Canada
CATEGORIES:Restaurant Promotion
ATTACH;FMTTYPE=image/webp:https://steelcitymagazine.ca/wp-content/uploads/2025/05/half-price-wings-kelseys-copy.webp
END:VEVENT
BEGIN:VEVENT
DTSTART;TZID=America/Toronto:20300519T110000
DTEND;TZID=America/Toronto:20300519T230000
DTSTAMP:20260421T065709
CREATED:20250526T201827Z
LAST-MODIFIED:20250526T201827Z
UID:10000264-1905418800-1905462000@steelcitymagazine.ca
SUMMARY:$5 Caesars at Kelsey's Original Roadhouse Redhill
DESCRIPTION:Enjoy $5 Caesars all day Sunday at Kelsey’s Original Roadhouse Redhill. You can even Kick It Up to a double for $8! \nAvailable all day\, every Sunday. \n  \n 
URL:https://steelcitymagazine.ca/event/5-caesars-at-kelseys-original-roadhouse-redhill/2030-05-19/
LOCATION:Kelsey’s Original Roadhouse – Redhill\, 821 Paramount Drive\, Hamilton\, ON\, L8J 2L6\, Canada
CATEGORIES:Restaurant Promotion
ATTACH;FMTTYPE=image/webp:https://steelcitymagazine.ca/wp-content/uploads/2025/05/5-Caesars-Kelseys-Original-Roadhouse.webp
END:VEVENT
BEGIN:VEVENT
DTSTART;TZID=America/Toronto:20300523T110000
DTEND;TZID=America/Toronto:20300527T000000
DTSTAMP:20260421T065709
CREATED:20250526T203629Z
LAST-MODIFIED:20250526T203629Z
UID:10000526-1905764400-1906070400@steelcitymagazine.ca
SUMMARY:Half Price Wings & Bites at Kelseys Original Roadhouse Redhill
DESCRIPTION:Enjoy half price chicken wings and bites all day Thursday at Kelsey’s Original Roadhouse. Choose from a variety of wing sauces and dry rubs\, breaded and non-breaded wings\, served with your choice of Kelsey’s side. \nHalf price wings and bites available with the purchase of a beverage. Ask your server for more details. \nYou can also enjoy Dinner for 2 for $55 including: 2 pints of Coors Lite or Coors Original\, the famous Four Cheese Spinach Dip\, and 20 wings made your way. \nSeating is limited\, be sure to reserve your table today!
URL:https://steelcitymagazine.ca/event/half-price-wings-bites-at-kelseys-original-roadhouse-redhill/2030-05-23/
LOCATION:Kelsey’s Original Roadhouse – Redhill\, 821 Paramount Drive\, Hamilton\, ON\, L8J 2L6\, Canada
CATEGORIES:Restaurant Promotion
ATTACH;FMTTYPE=image/webp:https://steelcitymagazine.ca/wp-content/uploads/2025/05/half-price-wings-kelseys-copy.webp
END:VEVENT
BEGIN:VEVENT
DTSTART;TZID=America/Toronto:20300526T110000
DTEND;TZID=America/Toronto:20300526T230000
DTSTAMP:20260421T065709
CREATED:20250526T201827Z
LAST-MODIFIED:20250526T201827Z
UID:10000265-1906023600-1906066800@steelcitymagazine.ca
SUMMARY:$5 Caesars at Kelsey's Original Roadhouse Redhill
DESCRIPTION:Enjoy $5 Caesars all day Sunday at Kelsey’s Original Roadhouse Redhill. You can even Kick It Up to a double for $8! \nAvailable all day\, every Sunday. \n  \n 
URL:https://steelcitymagazine.ca/event/5-caesars-at-kelseys-original-roadhouse-redhill/2030-05-26/
LOCATION:Kelsey’s Original Roadhouse – Redhill\, 821 Paramount Drive\, Hamilton\, ON\, L8J 2L6\, Canada
CATEGORIES:Restaurant Promotion
ATTACH;FMTTYPE=image/webp:https://steelcitymagazine.ca/wp-content/uploads/2025/05/5-Caesars-Kelseys-Original-Roadhouse.webp
END:VEVENT
END:VCALENDAR