BEGIN:VCALENDAR
VERSION:2.0
PRODID:-//Steel City Magazine - ECPv6.13.1//NONSGML v1.0//EN
CALSCALE:GREGORIAN
METHOD:PUBLISH
X-ORIGINAL-URL:https://steelcitymagazine.ca
X-WR-CALDESC:Events for Steel City Magazine
REFRESH-INTERVAL;VALUE=DURATION:PT1H
X-Robots-Tag:noindex
X-PUBLISHED-TTL:PT1H
BEGIN:VTIMEZONE
TZID:America/Toronto
BEGIN:DAYLIGHT
TZOFFSETFROM:-0500
TZOFFSETTO:-0400
TZNAME:EDT
DTSTART:20250309T070000
END:DAYLIGHT
BEGIN:STANDARD
TZOFFSETFROM:-0400
TZOFFSETTO:-0500
TZNAME:EST
DTSTART:20251102T060000
END:STANDARD
END:VTIMEZONE
BEGIN:VEVENT
DTSTART;TZID=America/Toronto:20251024T190000
DTEND;TZID=America/Toronto:20251024T223000
DTSTAMP:20260422T022415
CREATED:20250528T213355Z
LAST-MODIFIED:20250528T213355Z
UID:10000798-1761332400-1761345000@steelcitymagazine.ca
SUMMARY:Hamilton Tiger-Cats: Fandemonium
DESCRIPTION:Hamilton Tiger-Cats vs. Ottawa Redblacks. \nIt’s all about THE FANS. The Ticats Fandemonium Game is a night packed with surprises\, prizes\, and a celebration of the best fans in football. \nGame stars at 7pm.
URL:https://steelcitymagazine.ca/event/hamilton-tiger-cats-fandemonium/
LOCATION:Hamilton Stadium\, 64 Melrose Ave. North\, Hamilton\, Ontario\, L8L 0C3\, Canada
CATEGORIES:Hamilton Tiger-Cats
ATTACH;FMTTYPE=image/webp:https://steelcitymagazine.ca/wp-content/uploads/2025/05/Classic-Ticats-logo-660x532-1.webp
END:VEVENT
END:VCALENDAR